BEGIN:VCALENDAR
VERSION:2.0
PRODID:-//Welcome to Elk Township - ECPv6.15.20//NONSGML v1.0//EN
CALSCALE:GREGORIAN
METHOD:PUBLISH
X-WR-CALNAME:Welcome to Elk Township
X-ORIGINAL-URL:https://elktownshipnj.gov
X-WR-CALDESC:Events for Welcome to Elk Township
REFRESH-INTERVAL;VALUE=DURATION:PT1H
X-Robots-Tag:noindex
X-PUBLISHED-TTL:PT1H
BEGIN:VTIMEZONE
TZID:America/New_York
BEGIN:DAYLIGHT
TZOFFSETFROM:-0500
TZOFFSETTO:-0400
TZNAME:EDT
DTSTART:20240310T070000
END:DAYLIGHT
BEGIN:STANDARD
TZOFFSETFROM:-0400
TZOFFSETTO:-0500
TZNAME:EST
DTSTART:20241103T060000
END:STANDARD
BEGIN:DAYLIGHT
TZOFFSETFROM:-0500
TZOFFSETTO:-0400
TZNAME:EDT
DTSTART:20250309T070000
END:DAYLIGHT
BEGIN:STANDARD
TZOFFSETFROM:-0400
TZOFFSETTO:-0500
TZNAME:EST
DTSTART:20251102T060000
END:STANDARD
BEGIN:DAYLIGHT
TZOFFSETFROM:-0500
TZOFFSETTO:-0400
TZNAME:EDT
DTSTART:20260308T070000
END:DAYLIGHT
BEGIN:STANDARD
TZOFFSETFROM:-0400
TZOFFSETTO:-0500
TZNAME:EST
DTSTART:20261101T060000
END:STANDARD
BEGIN:DAYLIGHT
TZOFFSETFROM:-0500
TZOFFSETTO:-0400
TZNAME:EDT
DTSTART:20270314T070000
END:DAYLIGHT
BEGIN:STANDARD
TZOFFSETFROM:-0400
TZOFFSETTO:-0500
TZNAME:EST
DTSTART:20271107T060000
END:STANDARD
END:VTIMEZONE
BEGIN:VEVENT
DTSTART;TZID=America/New_York:20250605T190000
DTEND;TZID=America/New_York:20250605T213000
DTSTAMP:20260425T115548
CREATED:20180918T192412Z
LAST-MODIFIED:20180918T192412Z
UID:10000133-1749150000-1749159000@elktownshipnj.gov
SUMMARY:Twp. Meeting
DESCRIPTION:Regular Monthly Committee Meeting \nMunicipal Building
URL:https://elktownshipnj.gov/event/twp-meeting-2025-06-05/
END:VEVENT
BEGIN:VEVENT
DTSTART;TZID=America/New_York:20250617T190000
DTEND;TZID=America/New_York:20250617T213000
DTSTAMP:20260425T115548
CREATED:20180918T192321Z
LAST-MODIFIED:20180918T192321Z
UID:10000079-1750186800-1750195800@elktownshipnj.gov
SUMMARY:Twp. Committee Work Session
DESCRIPTION:Monthly Committee Work Session \nMunicipal Building
URL:https://elktownshipnj.gov/event/twp-committee-work-session-2025-06-17/
END:VEVENT
BEGIN:VEVENT
DTSTART;TZID=America/New_York:20250617T190000
DTEND;TZID=America/New_York:20250617T213000
DTSTAMP:20260425T115548
CREATED:20180918T192321Z
LAST-MODIFIED:20180918T192321Z
UID:10000085-1750186800-1750195800@elktownshipnj.gov
SUMMARY:Twp. Committee Work Session
DESCRIPTION:Monthly Committee Work Session \nMunicipal Building
URL:https://elktownshipnj.gov/event/twp-committee-work-session-2025-06-17-2/
END:VEVENT
BEGIN:VEVENT
DTSTART;TZID=America/New_York:20250618T190000
DTEND;TZID=America/New_York:20250618T230000
DTSTAMP:20260425T115548
CREATED:20181128T231336Z
LAST-MODIFIED:20181128T231336Z
UID:10000197-1750273200-1750287600@elktownshipnj.gov
SUMMARY:Planning/Zoning Board Meeting
DESCRIPTION:
URL:https://elktownshipnj.gov/event/planning-zoning-board-meeting-2-2025-06-18/
END:VEVENT
BEGIN:VEVENT
DTSTART;TZID=America/New_York:20250715T190000
DTEND;TZID=America/New_York:20250715T213000
DTSTAMP:20260425T115548
CREATED:20180918T192321Z
LAST-MODIFIED:20180918T192321Z
UID:10000086-1752606000-1752615000@elktownshipnj.gov
SUMMARY:Twp. Committee Work Session
DESCRIPTION:Monthly Committee Work Session \nMunicipal Building
URL:https://elktownshipnj.gov/event/twp-committee-work-session-2025-07-15/
END:VEVENT
BEGIN:VEVENT
DTSTART;TZID=America/New_York:20250716T190000
DTEND;TZID=America/New_York:20250716T230000
DTSTAMP:20260425T115548
CREATED:20181128T231336Z
LAST-MODIFIED:20181128T231336Z
UID:10000198-1752692400-1752706800@elktownshipnj.gov
SUMMARY:Planning/Zoning Board Meeting
DESCRIPTION:
URL:https://elktownshipnj.gov/event/planning-zoning-board-meeting-2-2025-07-16/
END:VEVENT
BEGIN:VEVENT
DTSTART;TZID=America/New_York:20250819T190000
DTEND;TZID=America/New_York:20250819T213000
DTSTAMP:20260425T115548
CREATED:20180918T192321Z
LAST-MODIFIED:20180918T192321Z
UID:10000088-1755630000-1755639000@elktownshipnj.gov
SUMMARY:Twp. Committee Work Session
DESCRIPTION:Monthly Committee Work Session \nMunicipal Building
URL:https://elktownshipnj.gov/event/twp-committee-work-session-2025-08-19/
END:VEVENT
BEGIN:VEVENT
DTSTART;TZID=America/New_York:20250820T190000
DTEND;TZID=America/New_York:20250820T230000
DTSTAMP:20260425T115548
CREATED:20181128T231336Z
LAST-MODIFIED:20181128T231336Z
UID:10000199-1755716400-1755730800@elktownshipnj.gov
SUMMARY:Planning/Zoning Board Meeting
DESCRIPTION:
URL:https://elktownshipnj.gov/event/planning-zoning-board-meeting-2-2025-08-20/
END:VEVENT
BEGIN:VEVENT
DTSTART;TZID=America/New_York:20250904T190000
DTEND;TZID=America/New_York:20250904T213000
DTSTAMP:20260425T115548
CREATED:20180918T192412Z
LAST-MODIFIED:20180918T192412Z
UID:10000136-1757012400-1757021400@elktownshipnj.gov
SUMMARY:Twp. Meeting
DESCRIPTION:Regular Monthly Committee Meeting \nMunicipal Building
URL:https://elktownshipnj.gov/event/twp-meeting-2025-09-04/
END:VEVENT
BEGIN:VEVENT
DTSTART;TZID=America/New_York:20250916T190000
DTEND;TZID=America/New_York:20250916T213000
DTSTAMP:20260425T115548
CREATED:20180918T192321Z
LAST-MODIFIED:20180918T192321Z
UID:10000090-1758049200-1758058200@elktownshipnj.gov
SUMMARY:Twp. Committee Work Session
DESCRIPTION:Monthly Committee Work Session \nMunicipal Building
URL:https://elktownshipnj.gov/event/twp-committee-work-session-2025-09-16/
END:VEVENT
BEGIN:VEVENT
DTSTART;TZID=America/New_York:20250916T190000
DTEND;TZID=America/New_York:20250916T213000
DTSTAMP:20260425T115548
CREATED:20180918T192321Z
LAST-MODIFIED:20180918T192321Z
UID:10000091-1758049200-1758058200@elktownshipnj.gov
SUMMARY:Twp. Committee Work Session
DESCRIPTION:Monthly Committee Work Session \nMunicipal Building
URL:https://elktownshipnj.gov/event/twp-committee-work-session-2025-09-16-2/
END:VEVENT
BEGIN:VEVENT
DTSTART;TZID=America/New_York:20250917T190000
DTEND;TZID=America/New_York:20250917T230000
DTSTAMP:20260425T115548
CREATED:20181128T231336Z
LAST-MODIFIED:20181128T231336Z
UID:10000215-1758135600-1758150000@elktownshipnj.gov
SUMMARY:Planning/Zoning Board Meeting
DESCRIPTION:
URL:https://elktownshipnj.gov/event/planning-zoning-board-meeting-2-2025-09-17/
END:VEVENT
BEGIN:VEVENT
DTSTART;TZID=America/New_York:20251002T190000
DTEND;TZID=America/New_York:20251002T213000
DTSTAMP:20260425T115548
CREATED:20180918T192412Z
LAST-MODIFIED:20180918T192412Z
UID:10000137-1759431600-1759440600@elktownshipnj.gov
SUMMARY:Twp. Meeting
DESCRIPTION:Regular Monthly Committee Meeting \nMunicipal Building
URL:https://elktownshipnj.gov/event/twp-meeting-2025-10-02/
END:VEVENT
BEGIN:VEVENT
DTSTART;TZID=America/New_York:20251015T190000
DTEND;TZID=America/New_York:20251015T230000
DTSTAMP:20260425T115548
CREATED:20181128T231336Z
LAST-MODIFIED:20181128T231336Z
UID:10000216-1760554800-1760569200@elktownshipnj.gov
SUMMARY:Planning/Zoning Board Meeting
DESCRIPTION:
URL:https://elktownshipnj.gov/event/planning-zoning-board-meeting-2-2025-10-15/
END:VEVENT
BEGIN:VEVENT
DTSTART;TZID=America/New_York:20251021T190000
DTEND;TZID=America/New_York:20251021T213000
DTSTAMP:20260425T115548
CREATED:20180918T192321Z
LAST-MODIFIED:20180918T192321Z
UID:10000093-1761073200-1761082200@elktownshipnj.gov
SUMMARY:Twp. Committee Work Session
DESCRIPTION:Monthly Committee Work Session \nMunicipal Building
URL:https://elktownshipnj.gov/event/twp-committee-work-session-2025-10-21-2/
END:VEVENT
BEGIN:VEVENT
DTSTART;TZID=America/New_York:20251021T190000
DTEND;TZID=America/New_York:20251021T213000
DTSTAMP:20260425T115548
CREATED:20180918T192321Z
LAST-MODIFIED:20180918T192321Z
UID:10000092-1761073200-1761082200@elktownshipnj.gov
SUMMARY:Twp. Committee Work Session
DESCRIPTION:Monthly Committee Work Session \nMunicipal Building
URL:https://elktownshipnj.gov/event/twp-committee-work-session-2025-10-21/
END:VEVENT
BEGIN:VEVENT
DTSTART;TZID=America/New_York:20251106T190000
DTEND;TZID=America/New_York:20251106T213000
DTSTAMP:20260425T115548
CREATED:20180918T192412Z
LAST-MODIFIED:20180918T192412Z
UID:10000138-1762455600-1762464600@elktownshipnj.gov
SUMMARY:Twp. Meeting
DESCRIPTION:Regular Monthly Committee Meeting \nMunicipal Building
URL:https://elktownshipnj.gov/event/twp-meeting-2025-11-06/
END:VEVENT
BEGIN:VEVENT
DTSTART;TZID=America/New_York:20251119T190000
DTEND;TZID=America/New_York:20251119T230000
DTSTAMP:20260425T115548
CREATED:20181128T231336Z
LAST-MODIFIED:20181128T231336Z
UID:10000217-1763578800-1763593200@elktownshipnj.gov
SUMMARY:Planning/Zoning Board Meeting
DESCRIPTION:
URL:https://elktownshipnj.gov/event/planning-zoning-board-meeting-2-2025-11-19/
END:VEVENT
BEGIN:VEVENT
DTSTART;TZID=America/New_York:20251204T190000
DTEND;TZID=America/New_York:20251204T213000
DTSTAMP:20260425T115548
CREATED:20180918T192412Z
LAST-MODIFIED:20180918T192412Z
UID:10000139-1764874800-1764883800@elktownshipnj.gov
SUMMARY:Twp. Meeting
DESCRIPTION:Regular Monthly Committee Meeting \nMunicipal Building
URL:https://elktownshipnj.gov/event/twp-meeting-2025-12-04/
END:VEVENT
BEGIN:VEVENT
DTSTART;TZID=America/New_York:20251216T190000
DTEND;TZID=America/New_York:20251216T213000
DTSTAMP:20260425T115548
CREATED:20180918T192321Z
LAST-MODIFIED:20180918T192321Z
UID:10000096-1765911600-1765920600@elktownshipnj.gov
SUMMARY:Twp. Committee Work Session
DESCRIPTION:Monthly Committee Work Session \nMunicipal Building
URL:https://elktownshipnj.gov/event/twp-committee-work-session-2025-12-16/
END:VEVENT
BEGIN:VEVENT
DTSTART;TZID=America/New_York:20251216T190000
DTEND;TZID=America/New_York:20251216T213000
DTSTAMP:20260425T115548
CREATED:20180918T192321Z
LAST-MODIFIED:20180918T192321Z
UID:10000097-1765911600-1765920600@elktownshipnj.gov
SUMMARY:Twp. Committee Work Session
DESCRIPTION:Monthly Committee Work Session \nMunicipal Building
URL:https://elktownshipnj.gov/event/twp-committee-work-session-2025-12-16-2/
END:VEVENT
BEGIN:VEVENT
DTSTART;TZID=America/New_York:20251217T190000
DTEND;TZID=America/New_York:20251217T230000
DTSTAMP:20260425T115548
CREATED:20181128T231336Z
LAST-MODIFIED:20181128T231336Z
UID:10000218-1765998000-1766012400@elktownshipnj.gov
SUMMARY:Planning/Zoning Board Meeting
DESCRIPTION:
URL:https://elktownshipnj.gov/event/planning-zoning-board-meeting-2-2025-12-17/
END:VEVENT
BEGIN:VEVENT
DTSTART;TZID=America/New_York:20260101T190000
DTEND;TZID=America/New_York:20260101T213000
DTSTAMP:20260425T115548
CREATED:20180918T192412Z
LAST-MODIFIED:20180918T192412Z
UID:10000158-1767294000-1767303000@elktownshipnj.gov
SUMMARY:Twp. Meeting
DESCRIPTION:Regular Monthly Committee Meeting \nMunicipal Building
URL:https://elktownshipnj.gov/event/twp-meeting-2026-01-01/
END:VEVENT
BEGIN:VEVENT
DTSTART;TZID=America/New_York:20260103T190000
DTEND;TZID=America/New_York:20260103T203000
DTSTAMP:20260425T115548
CREATED:20260218T193057Z
LAST-MODIFIED:20260218T193057Z
UID:10001167-1767466800-1767472200@elktownshipnj.gov
SUMMARY:Township Meeting - Reorganization
DESCRIPTION:
URL:https://elktownshipnj.gov/event/township-meeting-reorganization/
LOCATION:Elk Twp Municipal Bldg\, 680 Whig Ln\, Monroeville\, 08343\, United States
END:VEVENT
BEGIN:VEVENT
DTSTART;TZID=America/New_York:20260120T190000
DTEND;TZID=America/New_York:20260120T210000
DTSTAMP:20260425T115548
CREATED:20250703T163950Z
LAST-MODIFIED:20260317T224517Z
UID:10001414-1768935600-1768942800@elktownshipnj.gov
SUMMARY:Twp. Committee Work Session
DESCRIPTION:
URL:https://elktownshipnj.gov/event/twp-committee-work-session/2026-01-20/
END:VEVENT
BEGIN:VEVENT
DTSTART;TZID=America/New_York:20260120T190000
DTEND;TZID=America/New_York:20260120T213000
DTSTAMP:20260425T115548
CREATED:20180918T192321Z
LAST-MODIFIED:20180918T192321Z
UID:10000098-1768935600-1768944600@elktownshipnj.gov
SUMMARY:Twp. Committee Work Session
DESCRIPTION:Monthly Committee Work Session \nMunicipal Building
URL:https://elktownshipnj.gov/event/twp-committee-work-session-2026-01-20/
END:VEVENT
BEGIN:VEVENT
DTSTART;TZID=America/New_York:20260120T190000
DTEND;TZID=America/New_York:20260120T213000
DTSTAMP:20260425T115548
CREATED:20180918T192321Z
LAST-MODIFIED:20180918T192321Z
UID:10000099-1768935600-1768944600@elktownshipnj.gov
SUMMARY:Twp. Committee Work Session
DESCRIPTION:Monthly Committee Work Session \nMunicipal Building
URL:https://elktownshipnj.gov/event/twp-committee-work-session-2026-01-20-2/
END:VEVENT
BEGIN:VEVENT
DTSTART;TZID=America/New_York:20260121T190000
DTEND;TZID=America/New_York:20260121T230000
DTSTAMP:20260425T115548
CREATED:20181128T231336Z
LAST-MODIFIED:20181128T231336Z
UID:10000219-1769022000-1769036400@elktownshipnj.gov
SUMMARY:Planning/Zoning Board Meeting
DESCRIPTION:
URL:https://elktownshipnj.gov/event/planning-zoning-board-meeting-2-2026-01-21/
END:VEVENT
BEGIN:VEVENT
DTSTART;TZID=America/New_York:20260205T190000
DTEND;TZID=America/New_York:20260205T213000
DTSTAMP:20260425T115548
CREATED:20260219T120240Z
LAST-MODIFIED:20260219T120240Z
UID:10001353-1770318000-1770327000@elktownshipnj.gov
SUMMARY:Township Meeting
DESCRIPTION:Regular Monthly Committee Meeting \nMunicipal Building
URL:https://elktownshipnj.gov/event/township-meeting/2026-02-05/
LOCATION:Elk Twp Municipal Bldg\, 680 Whig Ln\, Monroeville\, 08343\, United States
END:VEVENT
BEGIN:VEVENT
DTSTART;TZID=America/New_York:20260217T190000
DTEND;TZID=America/New_York:20260217T210000
DTSTAMP:20260425T115548
CREATED:20250703T163950Z
LAST-MODIFIED:20260317T224517Z
UID:10001415-1771354800-1771362000@elktownshipnj.gov
SUMMARY:Twp. Committee Work Session
DESCRIPTION:
URL:https://elktownshipnj.gov/event/twp-committee-work-session/2026-02-17/
END:VEVENT
END:VCALENDAR