BEGIN:VCALENDAR
VERSION:2.0
PRODID:-//Welcome to Elk Township - ECPv6.15.20//NONSGML v1.0//EN
CALSCALE:GREGORIAN
METHOD:PUBLISH
X-WR-CALNAME:Welcome to Elk Township
X-ORIGINAL-URL:https://elktownshipnj.gov
X-WR-CALDESC:Events for Welcome to Elk Township
REFRESH-INTERVAL;VALUE=DURATION:PT1H
X-Robots-Tag:noindex
X-PUBLISHED-TTL:PT1H
BEGIN:VTIMEZONE
TZID:America/New_York
BEGIN:DAYLIGHT
TZOFFSETFROM:-0500
TZOFFSETTO:-0400
TZNAME:EDT
DTSTART:20220313T070000
END:DAYLIGHT
BEGIN:STANDARD
TZOFFSETFROM:-0400
TZOFFSETTO:-0500
TZNAME:EST
DTSTART:20221106T060000
END:STANDARD
BEGIN:DAYLIGHT
TZOFFSETFROM:-0500
TZOFFSETTO:-0400
TZNAME:EDT
DTSTART:20230312T070000
END:DAYLIGHT
BEGIN:STANDARD
TZOFFSETFROM:-0400
TZOFFSETTO:-0500
TZNAME:EST
DTSTART:20231105T060000
END:STANDARD
BEGIN:DAYLIGHT
TZOFFSETFROM:-0500
TZOFFSETTO:-0400
TZNAME:EDT
DTSTART:20240310T070000
END:DAYLIGHT
BEGIN:STANDARD
TZOFFSETFROM:-0400
TZOFFSETTO:-0500
TZNAME:EST
DTSTART:20241103T060000
END:STANDARD
END:VTIMEZONE
BEGIN:VEVENT
DTSTART;TZID=America/New_York:20230920T190000
DTEND;TZID=America/New_York:20230920T230000
DTSTAMP:20260425T105014
CREATED:20181128T231336Z
LAST-MODIFIED:20181128T231336Z
UID:10000175-1695236400-1695250800@elktownshipnj.gov
SUMMARY:Planning/Zoning Board Meeting
DESCRIPTION:
URL:https://elktownshipnj.gov/event/planning-zoning-board-meeting-2-2023-09-20/
END:VEVENT
BEGIN:VEVENT
DTSTART;TZID=America/New_York:20230919T190000
DTEND;TZID=America/New_York:20230919T213000
DTSTAMP:20260425T105014
CREATED:20180918T192321Z
LAST-MODIFIED:20180918T192321Z
UID:10000037-1695150000-1695159000@elktownshipnj.gov
SUMMARY:Twp. Committee Work Session
DESCRIPTION:Monthly Committee Work Session \nMunicipal Building
URL:https://elktownshipnj.gov/event/twp-committee-work-session-2023-09-19/
END:VEVENT
BEGIN:VEVENT
DTSTART;TZID=America/New_York:20230919T190000
DTEND;TZID=America/New_York:20230919T213000
DTSTAMP:20260425T105014
CREATED:20180918T192321Z
LAST-MODIFIED:20180918T192321Z
UID:10000038-1695150000-1695159000@elktownshipnj.gov
SUMMARY:Twp. Committee Work Session
DESCRIPTION:Monthly Committee Work Session \nMunicipal Building
URL:https://elktownshipnj.gov/event/twp-committee-work-session-2023-09-19-2/
END:VEVENT
BEGIN:VEVENT
DTSTART;TZID=America/New_York:20230916T080000
DTEND;TZID=America/New_York:20230916T140000
DTSTAMP:20260425T105014
CREATED:20230215T150225Z
LAST-MODIFIED:20230215T150225Z
UID:10000262-1694851200-1694872800@elktownshipnj.gov
SUMMARY:Gloucester County Household Hazardous Waste Collection
DESCRIPTION:Gloucester Co. Solid Waste Complex \n493 Monroeville Road (CR694)\, S. Harrison
URL:https://elktownshipnj.gov/event/gloucester-county-household-hazardous-waste-collection-3/
END:VEVENT
BEGIN:VEVENT
DTSTART;TZID=America/New_York:20230907T190000
DTEND;TZID=America/New_York:20230907T213000
DTSTAMP:20260425T105014
CREATED:20180918T192412Z
LAST-MODIFIED:20180918T192412Z
UID:10000112-1694113200-1694122200@elktownshipnj.gov
SUMMARY:Twp. Meeting
DESCRIPTION:Regular Monthly Committee Meeting \nMunicipal Building
URL:https://elktownshipnj.gov/event/twp-meeting-2023-09-07/
END:VEVENT
BEGIN:VEVENT
DTSTART;TZID=America/New_York:20230816T190000
DTEND;TZID=America/New_York:20230816T230000
DTSTAMP:20260425T105014
CREATED:20181128T231336Z
LAST-MODIFIED:20181128T231336Z
UID:10000174-1692212400-1692226800@elktownshipnj.gov
SUMMARY:Planning/Zoning Board Meeting
DESCRIPTION:
URL:https://elktownshipnj.gov/event/planning-zoning-board-meeting-2-2023-08-16/
END:VEVENT
BEGIN:VEVENT
DTSTART;TZID=America/New_York:20230815T190000
DTEND;TZID=America/New_York:20230815T213000
DTSTAMP:20260425T105014
CREATED:20180918T192321Z
LAST-MODIFIED:20180918T192321Z
UID:10000036-1692126000-1692135000@elktownshipnj.gov
SUMMARY:Twp. Committee Work Session
DESCRIPTION:Monthly Committee Work Session \nMunicipal Building
URL:https://elktownshipnj.gov/event/twp-committee-work-session-2023-08-15/
END:VEVENT
BEGIN:VEVENT
DTSTART;TZID=America/New_York:20230719T190000
DTEND;TZID=America/New_York:20230719T230000
DTSTAMP:20260425T105014
CREATED:20181128T231336Z
LAST-MODIFIED:20181128T231336Z
UID:10000173-1689793200-1689807600@elktownshipnj.gov
SUMMARY:Planning/Zoning Board Meeting
DESCRIPTION:
URL:https://elktownshipnj.gov/event/planning-zoning-board-meeting-2-2023-07-19/
END:VEVENT
BEGIN:VEVENT
DTSTART;TZID=America/New_York:20230718T190000
DTEND;TZID=America/New_York:20230718T213000
DTSTAMP:20260425T105014
CREATED:20180918T192321Z
LAST-MODIFIED:20180918T192321Z
UID:10000035-1689706800-1689715800@elktownshipnj.gov
SUMMARY:Twp. Committee Work Session
DESCRIPTION:Monthly Committee Work Session \nMunicipal Building
URL:https://elktownshipnj.gov/event/twp-committee-work-session-2023-07-18/
END:VEVENT
BEGIN:VEVENT
DTSTART;TZID=America/New_York:20230621T190000
DTEND;TZID=America/New_York:20230621T230000
DTSTAMP:20260425T105014
CREATED:20181128T231336Z
LAST-MODIFIED:20181128T231336Z
UID:10000172-1687374000-1687388400@elktownshipnj.gov
SUMMARY:Planning/Zoning Board Meeting
DESCRIPTION:
URL:https://elktownshipnj.gov/event/planning-zoning-board-meeting-2-2023-06-21/
END:VEVENT
BEGIN:VEVENT
DTSTART;TZID=America/New_York:20230620T190000
DTEND;TZID=America/New_York:20230620T213000
DTSTAMP:20260425T105014
CREATED:20180918T192321Z
LAST-MODIFIED:20180918T192321Z
UID:10000034-1687287600-1687296600@elktownshipnj.gov
SUMMARY:Twp. Committee Work Session
DESCRIPTION:Monthly Committee Work Session \nMunicipal Building
URL:https://elktownshipnj.gov/event/twp-committee-work-session-2023-06-20/
END:VEVENT
BEGIN:VEVENT
DTSTART;TZID=America/New_York:20230520T080000
DTEND;TZID=America/New_York:20230520T140000
DTSTAMP:20260425T105014
CREATED:20230215T150540Z
LAST-MODIFIED:20230215T150540Z
UID:10000263-1684569600-1684591200@elktownshipnj.gov
SUMMARY:Gloucester County Household Hazardous Waste
DESCRIPTION:Gloucester County Road Department \n1200 N. Delsea Drive\, Clayton
URL:https://elktownshipnj.gov/event/gloucester-county-household-hazardous-waste/
END:VEVENT
BEGIN:VEVENT
DTSTART;TZID=America/New_York:20230517T190000
DTEND;TZID=America/New_York:20230517T230000
DTSTAMP:20260425T105014
CREATED:20181128T231336Z
LAST-MODIFIED:20181128T231336Z
UID:10000171-1684350000-1684364400@elktownshipnj.gov
SUMMARY:Planning/Zoning Board Meeting
DESCRIPTION:
URL:https://elktownshipnj.gov/event/planning-zoning-board-meeting-2-2023-05-17/
END:VEVENT
BEGIN:VEVENT
DTSTART;TZID=America/New_York:20230516T190000
DTEND;TZID=America/New_York:20230516T213000
DTSTAMP:20260425T105014
CREATED:20180918T192321Z
LAST-MODIFIED:20180918T192321Z
UID:10000033-1684263600-1684272600@elktownshipnj.gov
SUMMARY:Twp. Committee Work Session
DESCRIPTION:Monthly Committee Work Session \nMunicipal Building
URL:https://elktownshipnj.gov/event/twp-committee-work-session-2023-05-16-2/
END:VEVENT
BEGIN:VEVENT
DTSTART;TZID=America/New_York:20230516T190000
DTEND;TZID=America/New_York:20230516T213000
DTSTAMP:20260425T105014
CREATED:20180918T192321Z
LAST-MODIFIED:20180918T192321Z
UID:10000032-1684263600-1684272600@elktownshipnj.gov
SUMMARY:Twp. Committee Work Session
DESCRIPTION:Monthly Committee Work Session \nMunicipal Building
URL:https://elktownshipnj.gov/event/twp-committee-work-session-2023-05-16/
END:VEVENT
BEGIN:VEVENT
DTSTART;TZID=America/New_York:20230504T190000
DTEND;TZID=America/New_York:20230504T213000
DTSTAMP:20260425T105014
CREATED:20180918T192412Z
LAST-MODIFIED:20180918T192412Z
UID:10000111-1683226800-1683235800@elktownshipnj.gov
SUMMARY:Twp. Meeting
DESCRIPTION:Regular Monthly Committee Meeting \nMunicipal Building
URL:https://elktownshipnj.gov/event/twp-meeting-2023-05-04/
END:VEVENT
BEGIN:VEVENT
DTSTART;TZID=America/New_York:20230419T190000
DTEND;TZID=America/New_York:20230419T230000
DTSTAMP:20260425T105014
CREATED:20181128T231336Z
LAST-MODIFIED:20181128T231336Z
UID:10000170-1681930800-1681945200@elktownshipnj.gov
SUMMARY:Planning/Zoning Board Meeting
DESCRIPTION:
URL:https://elktownshipnj.gov/event/planning-zoning-board-meeting-2-2023-04-19/
END:VEVENT
BEGIN:VEVENT
DTSTART;TZID=America/New_York:20230418T190000
DTEND;TZID=America/New_York:20230418T213000
DTSTAMP:20260425T105014
CREATED:20180918T192321Z
LAST-MODIFIED:20180918T192321Z
UID:10000030-1681844400-1681853400@elktownshipnj.gov
SUMMARY:Twp. Committee Work Session
DESCRIPTION:Monthly Committee Work Session \nMunicipal Building
URL:https://elktownshipnj.gov/event/twp-committee-work-session-2023-04-18/
END:VEVENT
BEGIN:VEVENT
DTSTART;TZID=America/New_York:20230418T190000
DTEND;TZID=America/New_York:20230418T213000
DTSTAMP:20260425T105014
CREATED:20180918T192321Z
LAST-MODIFIED:20180918T192321Z
UID:10000031-1681844400-1681853400@elktownshipnj.gov
SUMMARY:Twp. Committee Work Session
DESCRIPTION:Monthly Committee Work Session \nMunicipal Building
URL:https://elktownshipnj.gov/event/twp-committee-work-session-2023-04-18-2/
END:VEVENT
BEGIN:VEVENT
DTSTART;TZID=America/New_York:20230415T090000
DTEND;TZID=America/New_York:20230415T120000
DTSTAMP:20260425T105014
CREATED:20230215T144436Z
LAST-MODIFIED:20230215T144436Z
UID:10000259-1681549200-1681560000@elktownshipnj.gov
SUMMARY:Shred Day/Clean Up
DESCRIPTION:
URL:https://elktownshipnj.gov/event/shred-day-clean-up/
END:VEVENT
BEGIN:VEVENT
DTSTART;TZID=America/New_York:20230408T080000
DTEND;TZID=America/New_York:20230408T140000
DTSTAMP:20260425T105014
CREATED:20230215T145425Z
LAST-MODIFIED:20230215T145425Z
UID:10000260-1680940800-1680962400@elktownshipnj.gov
SUMMARY:Gloucester County Household Hazardous Waste Collection
DESCRIPTION:Gloucester Co. Solid Waste Complex \n493 Monroeville Road (CR694)\, S. Harrison
URL:https://elktownshipnj.gov/event/gloucester-county-household-hazardous-waste-collection/
END:VEVENT
BEGIN:VEVENT
DTSTART;TZID=America/New_York:20230406T190000
DTEND;TZID=America/New_York:20230406T213000
DTSTAMP:20260425T105014
CREATED:20180918T192412Z
LAST-MODIFIED:20180918T192412Z
UID:10000110-1680807600-1680816600@elktownshipnj.gov
SUMMARY:Twp. Meeting
DESCRIPTION:Regular Monthly Committee Meeting \nMunicipal Building
URL:https://elktownshipnj.gov/event/twp-meeting-2023-04-06/
END:VEVENT
BEGIN:VEVENT
DTSTART;TZID=America/New_York:20230402T120000
DTEND;TZID=America/New_York:20230402T123000
DTSTAMP:20260425T105014
CREATED:20230401T115854Z
LAST-MODIFIED:20230401T115854Z
UID:10000265-1680436800-1680438600@elktownshipnj.gov
SUMMARY:Easter Egg Hunt
DESCRIPTION:Annual Egg Hunt – please bring your own bag or basket. \nPrizes for most eggs found.
URL:https://elktownshipnj.gov/event/easter-egg-hunt-4/
END:VEVENT
BEGIN:VEVENT
DTSTART;TZID=America/New_York:20230321T190000
DTEND;TZID=America/New_York:20230321T213000
DTSTAMP:20260425T105014
CREATED:20180918T192321Z
LAST-MODIFIED:20180918T192321Z
UID:10000028-1679425200-1679434200@elktownshipnj.gov
SUMMARY:Twp. Committee Work Session
DESCRIPTION:Monthly Committee Work Session \nMunicipal Building
URL:https://elktownshipnj.gov/event/twp-committee-work-session-2023-03-21/
END:VEVENT
BEGIN:VEVENT
DTSTART;TZID=America/New_York:20230321T190000
DTEND;TZID=America/New_York:20230321T213000
DTSTAMP:20260425T105014
CREATED:20180918T192321Z
LAST-MODIFIED:20180918T192321Z
UID:10000029-1679425200-1679434200@elktownshipnj.gov
SUMMARY:Twp. Committee Work Session
DESCRIPTION:Monthly Committee Work Session \nMunicipal Building
URL:https://elktownshipnj.gov/event/twp-committee-work-session-2023-03-21-2/
END:VEVENT
BEGIN:VEVENT
DTSTART;TZID=America/New_York:20230315T190000
DTEND;TZID=America/New_York:20230315T230000
DTSTAMP:20260425T105014
CREATED:20181128T231336Z
LAST-MODIFIED:20181128T231336Z
UID:10000169-1678906800-1678921200@elktownshipnj.gov
SUMMARY:Planning/Zoning Board Meeting
DESCRIPTION:
URL:https://elktownshipnj.gov/event/planning-zoning-board-meeting-2-2023-03-15/
END:VEVENT
BEGIN:VEVENT
DTSTART;TZID=America/New_York:20230302T190000
DTEND;TZID=America/New_York:20230302T213000
DTSTAMP:20260425T105014
CREATED:20180918T192412Z
LAST-MODIFIED:20180918T192412Z
UID:10000109-1677783600-1677792600@elktownshipnj.gov
SUMMARY:Twp. Meeting
DESCRIPTION:Regular Monthly Committee Meeting \nMunicipal Building
URL:https://elktownshipnj.gov/event/twp-meeting-2023-03-02/
END:VEVENT
BEGIN:VEVENT
DTSTART;TZID=America/New_York:20230228T090000
DTEND;TZID=America/New_York:20230228T163000
DTSTAMP:20260425T105014
CREATED:20230215T151047Z
LAST-MODIFIED:20230215T151047Z
UID:10000264-1677574800-1677601800@elktownshipnj.gov
SUMMARY:Dog License Due Today
DESCRIPTION:February 28\, 2023 is the last day to register your dog for 2023 before the $10 late fee is assessed.
URL:https://elktownshipnj.gov/event/dog-license-due-today/
END:VEVENT
BEGIN:VEVENT
DTSTART;TZID=America/New_York:20230221T190000
DTEND;TZID=America/New_York:20230221T213000
DTSTAMP:20260425T105014
CREATED:20180918T192321Z
LAST-MODIFIED:20180918T192321Z
UID:10000026-1677006000-1677015000@elktownshipnj.gov
SUMMARY:Twp. Committee Work Session
DESCRIPTION:Monthly Committee Work Session \nMunicipal Building
URL:https://elktownshipnj.gov/event/twp-committee-work-session-2023-02-21/
END:VEVENT
BEGIN:VEVENT
DTSTART;TZID=America/New_York:20230221T190000
DTEND;TZID=America/New_York:20230221T213000
DTSTAMP:20260425T105014
CREATED:20180918T192321Z
LAST-MODIFIED:20180918T192321Z
UID:10000027-1677006000-1677015000@elktownshipnj.gov
SUMMARY:Twp. Committee Work Session
DESCRIPTION:Monthly Committee Work Session \nMunicipal Building
URL:https://elktownshipnj.gov/event/twp-committee-work-session-2023-02-21-2/
END:VEVENT
END:VCALENDAR