BEGIN:VCALENDAR
VERSION:2.0
PRODID:-//Welcome to Elk Township - ECPv6.15.20//NONSGML v1.0//EN
CALSCALE:GREGORIAN
METHOD:PUBLISH
X-WR-CALNAME:Welcome to Elk Township
X-ORIGINAL-URL:https://elktownshipnj.gov
X-WR-CALDESC:Events for Welcome to Elk Township
REFRESH-INTERVAL;VALUE=DURATION:PT1H
X-Robots-Tag:noindex
X-PUBLISHED-TTL:PT1H
BEGIN:VTIMEZONE
TZID:America/New_York
BEGIN:DAYLIGHT
TZOFFSETFROM:-0500
TZOFFSETTO:-0400
TZNAME:EDT
DTSTART:20210314T070000
END:DAYLIGHT
BEGIN:STANDARD
TZOFFSETFROM:-0400
TZOFFSETTO:-0500
TZNAME:EST
DTSTART:20211107T060000
END:STANDARD
BEGIN:DAYLIGHT
TZOFFSETFROM:-0500
TZOFFSETTO:-0400
TZNAME:EDT
DTSTART:20220313T070000
END:DAYLIGHT
BEGIN:STANDARD
TZOFFSETFROM:-0400
TZOFFSETTO:-0500
TZNAME:EST
DTSTART:20221106T060000
END:STANDARD
BEGIN:DAYLIGHT
TZOFFSETFROM:-0500
TZOFFSETTO:-0400
TZNAME:EDT
DTSTART:20230312T070000
END:DAYLIGHT
BEGIN:STANDARD
TZOFFSETFROM:-0400
TZOFFSETTO:-0500
TZNAME:EST
DTSTART:20231105T060000
END:STANDARD
BEGIN:DAYLIGHT
TZOFFSETFROM:-0500
TZOFFSETTO:-0400
TZNAME:EDT
DTSTART:20240310T070000
END:DAYLIGHT
BEGIN:STANDARD
TZOFFSETFROM:-0400
TZOFFSETTO:-0500
TZNAME:EST
DTSTART:20241103T060000
END:STANDARD
END:VTIMEZONE
BEGIN:VEVENT
DTSTART;TZID=America/New_York:20230321T190000
DTEND;TZID=America/New_York:20230321T213000
DTSTAMP:20260425T104749
CREATED:20180918T192321Z
LAST-MODIFIED:20180918T192321Z
UID:10000029-1679425200-1679434200@elktownshipnj.gov
SUMMARY:Twp. Committee Work Session
DESCRIPTION:Monthly Committee Work Session \nMunicipal Building
URL:https://elktownshipnj.gov/event/twp-committee-work-session-2023-03-21-2/
END:VEVENT
BEGIN:VEVENT
DTSTART;TZID=America/New_York:20230315T190000
DTEND;TZID=America/New_York:20230315T230000
DTSTAMP:20260425T104749
CREATED:20181128T231336Z
LAST-MODIFIED:20181128T231336Z
UID:10000169-1678906800-1678921200@elktownshipnj.gov
SUMMARY:Planning/Zoning Board Meeting
DESCRIPTION:
URL:https://elktownshipnj.gov/event/planning-zoning-board-meeting-2-2023-03-15/
END:VEVENT
BEGIN:VEVENT
DTSTART;TZID=America/New_York:20230302T190000
DTEND;TZID=America/New_York:20230302T213000
DTSTAMP:20260425T104749
CREATED:20180918T192412Z
LAST-MODIFIED:20180918T192412Z
UID:10000109-1677783600-1677792600@elktownshipnj.gov
SUMMARY:Twp. Meeting
DESCRIPTION:Regular Monthly Committee Meeting \nMunicipal Building
URL:https://elktownshipnj.gov/event/twp-meeting-2023-03-02/
END:VEVENT
BEGIN:VEVENT
DTSTART;TZID=America/New_York:20230228T090000
DTEND;TZID=America/New_York:20230228T163000
DTSTAMP:20260425T104749
CREATED:20230215T151047Z
LAST-MODIFIED:20230215T151047Z
UID:10000264-1677574800-1677601800@elktownshipnj.gov
SUMMARY:Dog License Due Today
DESCRIPTION:February 28\, 2023 is the last day to register your dog for 2023 before the $10 late fee is assessed.
URL:https://elktownshipnj.gov/event/dog-license-due-today/
END:VEVENT
BEGIN:VEVENT
DTSTART;TZID=America/New_York:20230221T190000
DTEND;TZID=America/New_York:20230221T213000
DTSTAMP:20260425T104749
CREATED:20180918T192321Z
LAST-MODIFIED:20180918T192321Z
UID:10000026-1677006000-1677015000@elktownshipnj.gov
SUMMARY:Twp. Committee Work Session
DESCRIPTION:Monthly Committee Work Session \nMunicipal Building
URL:https://elktownshipnj.gov/event/twp-committee-work-session-2023-02-21/
END:VEVENT
BEGIN:VEVENT
DTSTART;TZID=America/New_York:20230221T190000
DTEND;TZID=America/New_York:20230221T213000
DTSTAMP:20260425T104749
CREATED:20180918T192321Z
LAST-MODIFIED:20180918T192321Z
UID:10000027-1677006000-1677015000@elktownshipnj.gov
SUMMARY:Twp. Committee Work Session
DESCRIPTION:Monthly Committee Work Session \nMunicipal Building
URL:https://elktownshipnj.gov/event/twp-committee-work-session-2023-02-21-2/
END:VEVENT
BEGIN:VEVENT
DTSTART;TZID=America/New_York:20230215T190000
DTEND;TZID=America/New_York:20230215T230000
DTSTAMP:20260425T104749
CREATED:20181128T231336Z
LAST-MODIFIED:20181128T231336Z
UID:10000168-1676487600-1676502000@elktownshipnj.gov
SUMMARY:Planning/Zoning Board Meeting
DESCRIPTION:
URL:https://elktownshipnj.gov/event/planning-zoning-board-meeting-2-2023-02-15/
END:VEVENT
BEGIN:VEVENT
DTSTART;TZID=America/New_York:20230202T190000
DTEND;TZID=America/New_York:20230202T213000
DTSTAMP:20260425T104749
CREATED:20180918T192412Z
LAST-MODIFIED:20180918T192412Z
UID:10000108-1675364400-1675373400@elktownshipnj.gov
SUMMARY:Twp. Meeting
DESCRIPTION:Regular Monthly Committee Meeting \nMunicipal Building
URL:https://elktownshipnj.gov/event/twp-meeting-2023-02-02/
END:VEVENT
BEGIN:VEVENT
DTSTART;TZID=America/New_York:20230118T190000
DTEND;TZID=America/New_York:20230118T230000
DTSTAMP:20260425T104749
CREATED:20181128T231336Z
LAST-MODIFIED:20181128T231336Z
UID:10000167-1674068400-1674082800@elktownshipnj.gov
SUMMARY:Planning/Zoning Board Meeting
DESCRIPTION:
URL:https://elktownshipnj.gov/event/planning-zoning-board-meeting-2-2023-01-18/
END:VEVENT
BEGIN:VEVENT
DTSTART;TZID=America/New_York:20230117T190000
DTEND;TZID=America/New_York:20230117T213000
DTSTAMP:20260425T104749
CREATED:20180918T192321Z
LAST-MODIFIED:20180918T192321Z
UID:10000025-1673982000-1673991000@elktownshipnj.gov
SUMMARY:Twp. Committee Work Session
DESCRIPTION:Monthly Committee Work Session \nMunicipal Building
URL:https://elktownshipnj.gov/event/twp-committee-work-session-2023-01-17-2/
END:VEVENT
BEGIN:VEVENT
DTSTART;TZID=America/New_York:20230117T190000
DTEND;TZID=America/New_York:20230117T213000
DTSTAMP:20260425T104749
CREATED:20180918T192321Z
LAST-MODIFIED:20180918T192321Z
UID:10000024-1673982000-1673991000@elktownshipnj.gov
SUMMARY:Twp. Committee Work Session
DESCRIPTION:Monthly Committee Work Session \nMunicipal Building
URL:https://elktownshipnj.gov/event/twp-committee-work-session-2023-01-17/
END:VEVENT
BEGIN:VEVENT
DTSTART;TZID=America/New_York:20230105T190000
DTEND;TZID=America/New_York:20230105T213000
DTSTAMP:20260425T104749
CREATED:20180918T192412Z
LAST-MODIFIED:20180918T192412Z
UID:10000107-1672945200-1672954200@elktownshipnj.gov
SUMMARY:Twp. Meeting
DESCRIPTION:Regular Monthly Committee Meeting \nMunicipal Building
URL:https://elktownshipnj.gov/event/twp-meeting-2023-01-05/
END:VEVENT
BEGIN:VEVENT
DTSTART;TZID=America/New_York:20221221T190000
DTEND;TZID=America/New_York:20221221T230000
DTSTAMP:20260425T104749
CREATED:20181128T231336Z
LAST-MODIFIED:20181128T231336Z
UID:10000166-1671649200-1671663600@elktownshipnj.gov
SUMMARY:Planning/Zoning Board Meeting
DESCRIPTION:
URL:https://elktownshipnj.gov/event/planning-zoning-board-meeting-2-2022-12-21/
END:VEVENT
BEGIN:VEVENT
DTSTART;TZID=America/New_York:20221220T190000
DTEND;TZID=America/New_York:20221220T213000
DTSTAMP:20260425T104749
CREATED:20180918T192321Z
LAST-MODIFIED:20180918T192321Z
UID:10000022-1671562800-1671571800@elktownshipnj.gov
SUMMARY:Twp. Committee Work Session
DESCRIPTION:Monthly Committee Work Session \nMunicipal Building
URL:https://elktownshipnj.gov/event/twp-committee-work-session-2022-12-20/
END:VEVENT
BEGIN:VEVENT
DTSTART;TZID=America/New_York:20221220T190000
DTEND;TZID=America/New_York:20221220T213000
DTSTAMP:20260425T104749
CREATED:20180918T192321Z
LAST-MODIFIED:20180918T192321Z
UID:10000023-1671562800-1671571800@elktownshipnj.gov
SUMMARY:Twp. Committee Work Session
DESCRIPTION:Monthly Committee Work Session \nMunicipal Building
URL:https://elktownshipnj.gov/event/twp-committee-work-session-2022-12-20-2/
END:VEVENT
BEGIN:VEVENT
DTSTART;TZID=America/New_York:20221201T190000
DTEND;TZID=America/New_York:20221201T213000
DTSTAMP:20260425T104749
CREATED:20180918T192412Z
LAST-MODIFIED:20180918T192412Z
UID:10000106-1669921200-1669930200@elktownshipnj.gov
SUMMARY:Twp. Meeting
DESCRIPTION:Regular Monthly Committee Meeting \nMunicipal Building
URL:https://elktownshipnj.gov/event/twp-meeting-2022-12-01/
END:VEVENT
BEGIN:VEVENT
DTSTART;TZID=America/New_York:20221116T190000
DTEND;TZID=America/New_York:20221116T230000
DTSTAMP:20260425T104749
CREATED:20181128T231336Z
LAST-MODIFIED:20181128T231336Z
UID:10000165-1668625200-1668639600@elktownshipnj.gov
SUMMARY:Planning/Zoning Board Meeting
DESCRIPTION:
URL:https://elktownshipnj.gov/event/planning-zoning-board-meeting-2-2022-11-16/
END:VEVENT
BEGIN:VEVENT
DTSTART;TZID=America/New_York:20221115T190000
DTEND;TZID=America/New_York:20221115T213000
DTSTAMP:20260425T104749
CREATED:20180918T192321Z
LAST-MODIFIED:20180918T192321Z
UID:10000020-1668538800-1668547800@elktownshipnj.gov
SUMMARY:Twp. Committee Work Session
DESCRIPTION:Monthly Committee Work Session \nMunicipal Building
URL:https://elktownshipnj.gov/event/twp-committee-work-session-2022-11-15/
END:VEVENT
BEGIN:VEVENT
DTSTART;TZID=America/New_York:20221115T190000
DTEND;TZID=America/New_York:20221115T213000
DTSTAMP:20260425T104749
CREATED:20180918T192321Z
LAST-MODIFIED:20180918T192321Z
UID:10000021-1668538800-1668547800@elktownshipnj.gov
SUMMARY:Twp. Committee Work Session
DESCRIPTION:Monthly Committee Work Session \nMunicipal Building
URL:https://elktownshipnj.gov/event/twp-committee-work-session-2022-11-15-2/
END:VEVENT
BEGIN:VEVENT
DTSTART;TZID=America/New_York:20221110T190000
DTEND;TZID=America/New_York:20221110T230000
DTSTAMP:20260425T104749
CREATED:20181128T231336Z
LAST-MODIFIED:20181128T231336Z
UID:10000153-1668106800-1668121200@elktownshipnj.gov
SUMMARY:Planning/Zoning Board Meeting
DESCRIPTION:
URL:https://elktownshipnj.gov/event/planning-zoning-board-meeting-2-2022-10-19/2022-11-10/
END:VEVENT
BEGIN:VEVENT
DTSTART;TZID=America/New_York:20221103T190000
DTEND;TZID=America/New_York:20221103T213000
DTSTAMP:20260425T104749
CREATED:20180918T192412Z
LAST-MODIFIED:20180918T192412Z
UID:10000105-1667502000-1667511000@elktownshipnj.gov
SUMMARY:Twp. Meeting
DESCRIPTION:Regular Monthly Committee Meeting \nMunicipal Building
URL:https://elktownshipnj.gov/event/twp-meeting-2022-11-03/
END:VEVENT
BEGIN:VEVENT
DTSTART;TZID=America/New_York:20221019T190000
DTEND;TZID=America/New_York:20221019T230000
DTSTAMP:20260425T104749
CREATED:20181128T231336Z
LAST-MODIFIED:20181128T231336Z
UID:10000189-1666206000-1666220400@elktownshipnj.gov
SUMMARY:Planning/Zoning Board Meeting
DESCRIPTION:
URL:https://elktownshipnj.gov/event/planning-zoning-board-meeting-2-2020-11-18/2022-10-19/
END:VEVENT
BEGIN:VEVENT
DTSTART;TZID=America/New_York:20221018T190000
DTEND;TZID=America/New_York:20221018T213000
DTSTAMP:20260425T104749
CREATED:20180918T192321Z
LAST-MODIFIED:20180918T192321Z
UID:10000018-1666119600-1666128600@elktownshipnj.gov
SUMMARY:Twp. Committee Work Session
DESCRIPTION:Monthly Committee Work Session \nMunicipal Building
URL:https://elktownshipnj.gov/event/twp-committee-work-session-2022-10-18/
END:VEVENT
BEGIN:VEVENT
DTSTART;TZID=America/New_York:20221018T190000
DTEND;TZID=America/New_York:20221018T213000
DTSTAMP:20260425T104749
CREATED:20180918T192321Z
LAST-MODIFIED:20180918T192321Z
UID:10000019-1666119600-1666128600@elktownshipnj.gov
SUMMARY:Twp. Committee Work Session
DESCRIPTION:Monthly Committee Work Session \nMunicipal Building
URL:https://elktownshipnj.gov/event/twp-committee-work-session-2022-10-18-2/
END:VEVENT
BEGIN:VEVENT
DTSTART;TZID=America/New_York:20221006T190000
DTEND;TZID=America/New_York:20221006T213000
DTSTAMP:20260425T104749
CREATED:20180918T192412Z
LAST-MODIFIED:20180918T192412Z
UID:10000104-1665082800-1665091800@elktownshipnj.gov
SUMMARY:Twp. Meeting
DESCRIPTION:Regular Monthly Committee Meeting \nMunicipal Building
URL:https://elktownshipnj.gov/event/twp-meeting-2022-10-06/
END:VEVENT
BEGIN:VEVENT
DTSTART;TZID=America/New_York:20220921T190000
DTEND;TZID=America/New_York:20220921T230000
DTSTAMP:20260425T104749
CREATED:20181128T231336Z
LAST-MODIFIED:20181128T231336Z
UID:10000164-1663786800-1663801200@elktownshipnj.gov
SUMMARY:Planning/Zoning Board Meeting
DESCRIPTION:
URL:https://elktownshipnj.gov/event/planning-zoning-board-meeting-2-2022-09-21/
END:VEVENT
BEGIN:VEVENT
DTSTART;TZID=America/New_York:20220920T190000
DTEND;TZID=America/New_York:20220920T213000
DTSTAMP:20260425T104749
CREATED:20180918T192321Z
LAST-MODIFIED:20180918T192321Z
UID:10000017-1663700400-1663709400@elktownshipnj.gov
SUMMARY:Twp. Committee Work Session
DESCRIPTION:Monthly Committee Work Session \nMunicipal Building
URL:https://elktownshipnj.gov/event/twp-committee-work-session-2022-09-20-2/
END:VEVENT
BEGIN:VEVENT
DTSTART;TZID=America/New_York:20220920T190000
DTEND;TZID=America/New_York:20220920T213000
DTSTAMP:20260425T104749
CREATED:20180918T192321Z
LAST-MODIFIED:20180918T192321Z
UID:10000016-1663700400-1663709400@elktownshipnj.gov
SUMMARY:Twp. Committee Work Session
DESCRIPTION:Monthly Committee Work Session \nMunicipal Building
URL:https://elktownshipnj.gov/event/twp-committee-work-session-2022-09-20/
END:VEVENT
BEGIN:VEVENT
DTSTART;TZID=America/New_York:20220917T080000
DTEND;TZID=America/New_York:20220917T100000
DTSTAMP:20260425T104749
CREATED:20220813T143409Z
LAST-MODIFIED:20220813T143409Z
UID:10000257-1663401600-1663408800@elktownshipnj.gov
SUMMARY:Road Cleanup Day
DESCRIPTION:
URL:https://elktownshipnj.gov/event/road-cleanup-day/
END:VEVENT
BEGIN:VEVENT
DTSTART;TZID=America/New_York:20220901T190000
DTEND;TZID=America/New_York:20220901T213000
DTSTAMP:20260425T104749
CREATED:20180918T192412Z
LAST-MODIFIED:20180918T192412Z
UID:10000103-1662058800-1662067800@elktownshipnj.gov
SUMMARY:Twp. Meeting
DESCRIPTION:Regular Monthly Committee Meeting \nMunicipal Building
URL:https://elktownshipnj.gov/event/twp-meeting-2022-09-01/
END:VEVENT
END:VCALENDAR