BEGIN:VCALENDAR
VERSION:2.0
PRODID:-//Welcome to Elk Township - ECPv6.15.20//NONSGML v1.0//EN
CALSCALE:GREGORIAN
METHOD:PUBLISH
X-WR-CALNAME:Welcome to Elk Township
X-ORIGINAL-URL:https://elktownshipnj.gov
X-WR-CALDESC:Events for Welcome to Elk Township
REFRESH-INTERVAL;VALUE=DURATION:PT1H
X-Robots-Tag:noindex
X-PUBLISHED-TTL:PT1H
BEGIN:VTIMEZONE
TZID:America/New_York
BEGIN:DAYLIGHT
TZOFFSETFROM:-0500
TZOFFSETTO:-0400
TZNAME:EDT
DTSTART:20210314T070000
END:DAYLIGHT
BEGIN:STANDARD
TZOFFSETFROM:-0400
TZOFFSETTO:-0500
TZNAME:EST
DTSTART:20211107T060000
END:STANDARD
BEGIN:DAYLIGHT
TZOFFSETFROM:-0500
TZOFFSETTO:-0400
TZNAME:EDT
DTSTART:20220313T070000
END:DAYLIGHT
BEGIN:STANDARD
TZOFFSETFROM:-0400
TZOFFSETTO:-0500
TZNAME:EST
DTSTART:20221106T060000
END:STANDARD
BEGIN:DAYLIGHT
TZOFFSETFROM:-0500
TZOFFSETTO:-0400
TZNAME:EDT
DTSTART:20230312T070000
END:DAYLIGHT
BEGIN:STANDARD
TZOFFSETFROM:-0400
TZOFFSETTO:-0500
TZNAME:EST
DTSTART:20231105T060000
END:STANDARD
END:VTIMEZONE
BEGIN:VEVENT
DTSTART;TZID=America/New_York:20221018T190000
DTEND;TZID=America/New_York:20221018T213000
DTSTAMP:20260425T112353
CREATED:20180918T192321Z
LAST-MODIFIED:20180918T192321Z
UID:10000018-1666119600-1666128600@elktownshipnj.gov
SUMMARY:Twp. Committee Work Session
DESCRIPTION:Monthly Committee Work Session \nMunicipal Building
URL:https://elktownshipnj.gov/event/twp-committee-work-session-2022-10-18/
END:VEVENT
BEGIN:VEVENT
DTSTART;TZID=America/New_York:20221018T190000
DTEND;TZID=America/New_York:20221018T213000
DTSTAMP:20260425T112353
CREATED:20180918T192321Z
LAST-MODIFIED:20180918T192321Z
UID:10000019-1666119600-1666128600@elktownshipnj.gov
SUMMARY:Twp. Committee Work Session
DESCRIPTION:Monthly Committee Work Session \nMunicipal Building
URL:https://elktownshipnj.gov/event/twp-committee-work-session-2022-10-18-2/
END:VEVENT
BEGIN:VEVENT
DTSTART;TZID=America/New_York:20221006T190000
DTEND;TZID=America/New_York:20221006T213000
DTSTAMP:20260425T112353
CREATED:20180918T192412Z
LAST-MODIFIED:20180918T192412Z
UID:10000104-1665082800-1665091800@elktownshipnj.gov
SUMMARY:Twp. Meeting
DESCRIPTION:Regular Monthly Committee Meeting \nMunicipal Building
URL:https://elktownshipnj.gov/event/twp-meeting-2022-10-06/
END:VEVENT
BEGIN:VEVENT
DTSTART;TZID=America/New_York:20220921T190000
DTEND;TZID=America/New_York:20220921T230000
DTSTAMP:20260425T112353
CREATED:20181128T231336Z
LAST-MODIFIED:20181128T231336Z
UID:10000164-1663786800-1663801200@elktownshipnj.gov
SUMMARY:Planning/Zoning Board Meeting
DESCRIPTION:
URL:https://elktownshipnj.gov/event/planning-zoning-board-meeting-2-2022-09-21/
END:VEVENT
BEGIN:VEVENT
DTSTART;TZID=America/New_York:20220920T190000
DTEND;TZID=America/New_York:20220920T213000
DTSTAMP:20260425T112353
CREATED:20180918T192321Z
LAST-MODIFIED:20180918T192321Z
UID:10000017-1663700400-1663709400@elktownshipnj.gov
SUMMARY:Twp. Committee Work Session
DESCRIPTION:Monthly Committee Work Session \nMunicipal Building
URL:https://elktownshipnj.gov/event/twp-committee-work-session-2022-09-20-2/
END:VEVENT
BEGIN:VEVENT
DTSTART;TZID=America/New_York:20220920T190000
DTEND;TZID=America/New_York:20220920T213000
DTSTAMP:20260425T112353
CREATED:20180918T192321Z
LAST-MODIFIED:20180918T192321Z
UID:10000016-1663700400-1663709400@elktownshipnj.gov
SUMMARY:Twp. Committee Work Session
DESCRIPTION:Monthly Committee Work Session \nMunicipal Building
URL:https://elktownshipnj.gov/event/twp-committee-work-session-2022-09-20/
END:VEVENT
BEGIN:VEVENT
DTSTART;TZID=America/New_York:20220917T080000
DTEND;TZID=America/New_York:20220917T100000
DTSTAMP:20260425T112353
CREATED:20220813T143409Z
LAST-MODIFIED:20220813T143409Z
UID:10000257-1663401600-1663408800@elktownshipnj.gov
SUMMARY:Road Cleanup Day
DESCRIPTION:
URL:https://elktownshipnj.gov/event/road-cleanup-day/
END:VEVENT
BEGIN:VEVENT
DTSTART;TZID=America/New_York:20220901T190000
DTEND;TZID=America/New_York:20220901T213000
DTSTAMP:20260425T112353
CREATED:20180918T192412Z
LAST-MODIFIED:20180918T192412Z
UID:10000103-1662058800-1662067800@elktownshipnj.gov
SUMMARY:Twp. Meeting
DESCRIPTION:Regular Monthly Committee Meeting \nMunicipal Building
URL:https://elktownshipnj.gov/event/twp-meeting-2022-09-01/
END:VEVENT
BEGIN:VEVENT
DTSTART;TZID=America/New_York:20220817T190000
DTEND;TZID=America/New_York:20220817T230000
DTSTAMP:20260425T112353
CREATED:20181128T231336Z
LAST-MODIFIED:20181128T231336Z
UID:10000163-1660762800-1660777200@elktownshipnj.gov
SUMMARY:Planning/Zoning Board Meeting
DESCRIPTION:
URL:https://elktownshipnj.gov/event/planning-zoning-board-meeting-2-2022-08-17/
END:VEVENT
BEGIN:VEVENT
DTSTART;TZID=America/New_York:20220804T190000
DTEND;TZID=America/New_York:20220804T213000
DTSTAMP:20260425T112353
CREATED:20180918T192412Z
LAST-MODIFIED:20180918T192412Z
UID:10000102-1659639600-1659648600@elktownshipnj.gov
SUMMARY:Twp. Meeting
DESCRIPTION:Regular Monthly Committee Meeting \nMunicipal Building
URL:https://elktownshipnj.gov/event/twp-meeting-2022-08-04/
END:VEVENT
BEGIN:VEVENT
DTSTART;TZID=America/New_York:20220720T190000
DTEND;TZID=America/New_York:20220720T230000
DTSTAMP:20260425T112353
CREATED:20181128T231336Z
LAST-MODIFIED:20181128T231336Z
UID:10000162-1658343600-1658358000@elktownshipnj.gov
SUMMARY:Planning/Zoning Board Meeting
DESCRIPTION:
URL:https://elktownshipnj.gov/event/planning-zoning-board-meeting-2-2022-07-20/
END:VEVENT
BEGIN:VEVENT
DTSTART;TZID=America/New_York:20220719T190000
DTEND;TZID=America/New_York:20220719T213000
DTSTAMP:20260425T112353
CREATED:20180918T192321Z
LAST-MODIFIED:20180918T192321Z
UID:10000014-1658257200-1658266200@elktownshipnj.gov
SUMMARY:Twp. Committee Work Session
DESCRIPTION:Monthly Committee Work Session \nMunicipal Building
URL:https://elktownshipnj.gov/event/twp-committee-work-session-2022-07-19/
END:VEVENT
BEGIN:VEVENT
DTSTART;TZID=America/New_York:20220719T190000
DTEND;TZID=America/New_York:20220719T213000
DTSTAMP:20260425T112353
CREATED:20180918T192321Z
LAST-MODIFIED:20180918T192321Z
UID:10000015-1658257200-1658266200@elktownshipnj.gov
SUMMARY:Twp. Committee Work Session
DESCRIPTION:Monthly Committee Work Session \nMunicipal Building
URL:https://elktownshipnj.gov/event/twp-committee-work-session-2022-07-19-2/
END:VEVENT
BEGIN:VEVENT
DTSTART;TZID=America/New_York:20220707T190000
DTEND;TZID=America/New_York:20220707T213000
DTSTAMP:20260425T112353
CREATED:20180918T192412Z
LAST-MODIFIED:20180918T192412Z
UID:10000101-1657220400-1657229400@elktownshipnj.gov
SUMMARY:Twp. Meeting
DESCRIPTION:Regular Monthly Committee Meeting \nMunicipal Building
URL:https://elktownshipnj.gov/event/twp-meeting-2022-07-07/
END:VEVENT
BEGIN:VEVENT
DTSTART;TZID=America/New_York:20220621T190000
DTEND;TZID=America/New_York:20220621T213000
DTSTAMP:20260425T112353
CREATED:20180918T192321Z
LAST-MODIFIED:20180918T192321Z
UID:10000012-1655838000-1655847000@elktownshipnj.gov
SUMMARY:Twp. Committee Work Session
DESCRIPTION:Monthly Committee Work Session \nMunicipal Building
URL:https://elktownshipnj.gov/event/twp-committee-work-session-2022-06-21/
END:VEVENT
BEGIN:VEVENT
DTSTART;TZID=America/New_York:20220621T190000
DTEND;TZID=America/New_York:20220621T213000
DTSTAMP:20260425T112353
CREATED:20180918T192321Z
LAST-MODIFIED:20180918T192321Z
UID:10000013-1655838000-1655847000@elktownshipnj.gov
SUMMARY:Twp. Committee Work Session
DESCRIPTION:Monthly Committee Work Session \nMunicipal Building
URL:https://elktownshipnj.gov/event/twp-committee-work-session-2022-06-21-2/
END:VEVENT
BEGIN:VEVENT
DTSTART;TZID=America/New_York:20220615T190000
DTEND;TZID=America/New_York:20220615T230000
DTSTAMP:20260425T112353
CREATED:20181128T231336Z
LAST-MODIFIED:20181128T231336Z
UID:10000161-1655319600-1655334000@elktownshipnj.gov
SUMMARY:Planning/Zoning Board Meeting
DESCRIPTION:
URL:https://elktownshipnj.gov/event/planning-zoning-board-meeting-2-2022-06-15/
END:VEVENT
BEGIN:VEVENT
DTSTART;TZID=America/New_York:20220602T190000
DTEND;TZID=America/New_York:20220602T213000
DTSTAMP:20260425T112353
CREATED:20180918T192412Z
LAST-MODIFIED:20180918T192412Z
UID:10000100-1654196400-1654205400@elktownshipnj.gov
SUMMARY:Twp. Meeting
DESCRIPTION:Regular Monthly Committee Meeting \nMunicipal Building
URL:https://elktownshipnj.gov/event/twp-meeting-2022-06-02/
END:VEVENT
BEGIN:VEVENT
DTSTART;TZID=America/New_York:20220518T190000
DTEND;TZID=America/New_York:20220518T230000
DTSTAMP:20260425T112353
CREATED:20181128T231336Z
LAST-MODIFIED:20181128T231336Z
UID:10000160-1652900400-1652914800@elktownshipnj.gov
SUMMARY:Planning/Zoning Board Meeting
DESCRIPTION:
URL:https://elktownshipnj.gov/event/planning-zoning-board-meeting-2-2022-05-18/
END:VEVENT
BEGIN:VEVENT
DTSTART;TZID=America/New_York:20220517T190000
DTEND;TZID=America/New_York:20220517T213000
DTSTAMP:20260425T112353
CREATED:20180918T192321Z
LAST-MODIFIED:20180918T192321Z
UID:10000010-1652814000-1652823000@elktownshipnj.gov
SUMMARY:Twp. Committee Work Session
DESCRIPTION:Monthly Committee Work Session \nMunicipal Building
URL:https://elktownshipnj.gov/event/twp-committee-work-session-2022-05-17/
END:VEVENT
BEGIN:VEVENT
DTSTART;TZID=America/New_York:20220517T190000
DTEND;TZID=America/New_York:20220517T213000
DTSTAMP:20260425T112353
CREATED:20180918T192321Z
LAST-MODIFIED:20180918T192321Z
UID:10000011-1652814000-1652823000@elktownshipnj.gov
SUMMARY:Twp. Committee Work Session
DESCRIPTION:Monthly Committee Work Session \nMunicipal Building
URL:https://elktownshipnj.gov/event/twp-committee-work-session-2022-05-17-2/
END:VEVENT
BEGIN:VEVENT
DTSTART;TZID=America/New_York:20220505T190000
DTEND;TZID=America/New_York:20220505T213000
DTSTAMP:20260425T112353
CREATED:20180918T192412Z
LAST-MODIFIED:20180918T192412Z
UID:10000084-1651777200-1651786200@elktownshipnj.gov
SUMMARY:Twp. Meeting
DESCRIPTION:Regular Monthly Committee Meeting \nMunicipal Building
URL:https://elktownshipnj.gov/event/twp-meeting-2022-05-05/
END:VEVENT
BEGIN:VEVENT
DTSTART;TZID=America/New_York:20220423T093000
DTEND;TZID=America/New_York:20220423T120000
DTSTAMP:20260425T112353
CREATED:20220405T191029Z
LAST-MODIFIED:20220405T191029Z
UID:10000256-1650706200-1650715200@elktownshipnj.gov
SUMMARY:Arbor Day Celebration
DESCRIPTION:Annual Arbor Day Celebration \n09:30-tree planting at Municipal Building \n10:00 – 12:00 Tree Seedlings will be handed out to residents at Rec Park
URL:https://elktownshipnj.gov/event/arbor-day-celebration/
END:VEVENT
BEGIN:VEVENT
DTSTART;TZID=America/New_York:20220420T190000
DTEND;TZID=America/New_York:20220420T230000
DTSTAMP:20260425T112353
CREATED:20181128T231336Z
LAST-MODIFIED:20181128T231336Z
UID:10000157-1650481200-1650495600@elktownshipnj.gov
SUMMARY:Planning/Zoning Board Meeting
DESCRIPTION:
URL:https://elktownshipnj.gov/event/planning-zoning-board-meeting-2-2022-04-20/
END:VEVENT
BEGIN:VEVENT
DTSTART;TZID=America/New_York:20220419T190000
DTEND;TZID=America/New_York:20220419T213000
DTSTAMP:20260425T112353
CREATED:20180918T192321Z
LAST-MODIFIED:20180918T192321Z
UID:10000009-1650394800-1650403800@elktownshipnj.gov
SUMMARY:Twp. Committee Work Session
DESCRIPTION:Monthly Committee Work Session \nMunicipal Building
URL:https://elktownshipnj.gov/event/twp-committee-work-session-2022-04-19-2/
END:VEVENT
BEGIN:VEVENT
DTSTART;TZID=America/New_York:20220419T190000
DTEND;TZID=America/New_York:20220419T213000
DTSTAMP:20260425T112353
CREATED:20180918T192321Z
LAST-MODIFIED:20180918T192321Z
UID:10000008-1650394800-1650403800@elktownshipnj.gov
SUMMARY:Twp. Committee Work Session
DESCRIPTION:Monthly Committee Work Session \nMunicipal Building
URL:https://elktownshipnj.gov/event/twp-committee-work-session-2022-04-19/
END:VEVENT
BEGIN:VEVENT
DTSTART;TZID=America/New_York:20220409T100000
DTEND;TZID=America/New_York:20220409T110000
DTSTAMP:20260425T112353
CREATED:20220405T190909Z
LAST-MODIFIED:20220405T190909Z
UID:10000255-1649498400-1649502000@elktownshipnj.gov
SUMMARY:Easter Egg Hunt
DESCRIPTION:
URL:https://elktownshipnj.gov/event/easter-egg-hunt-3/
END:VEVENT
BEGIN:VEVENT
DTSTART;TZID=America/New_York:20220407T190000
DTEND;TZID=America/New_York:20220407T213000
DTSTAMP:20260425T112353
CREATED:20180918T192412Z
LAST-MODIFIED:20180918T192412Z
UID:10000083-1649358000-1649367000@elktownshipnj.gov
SUMMARY:Twp. Meeting
DESCRIPTION:Regular Monthly Committee Meeting \nMunicipal Building
URL:https://elktownshipnj.gov/event/twp-meeting-2022-04-07/
END:VEVENT
BEGIN:VEVENT
DTSTART;TZID=America/New_York:20220316T190000
DTEND;TZID=America/New_York:20220316T230000
DTSTAMP:20260425T112353
CREATED:20181128T231336Z
LAST-MODIFIED:20181128T231336Z
UID:10000156-1647457200-1647471600@elktownshipnj.gov
SUMMARY:Planning/Zoning Board Meeting
DESCRIPTION:
URL:https://elktownshipnj.gov/event/planning-zoning-board-meeting-2-2022-03-16/
END:VEVENT
BEGIN:VEVENT
DTSTART;TZID=America/New_York:20220315T190000
DTEND;TZID=America/New_York:20220315T213000
DTSTAMP:20260425T112353
CREATED:20180918T192321Z
LAST-MODIFIED:20180918T192321Z
UID:10000006-1647370800-1647379800@elktownshipnj.gov
SUMMARY:Twp. Committee Work Session
DESCRIPTION:Monthly Committee Work Session \nMunicipal Building
URL:https://elktownshipnj.gov/event/twp-committee-work-session-2022-03-15/
END:VEVENT
END:VCALENDAR