BEGIN:VCALENDAR
VERSION:2.0
PRODID:-//Welcome to Elk Township - ECPv6.15.20//NONSGML v1.0//EN
CALSCALE:GREGORIAN
METHOD:PUBLISH
X-WR-CALNAME:Welcome to Elk Township
X-ORIGINAL-URL:https://elktownshipnj.gov
X-WR-CALDESC:Events for Welcome to Elk Township
REFRESH-INTERVAL;VALUE=DURATION:PT1H
X-Robots-Tag:noindex
X-PUBLISHED-TTL:PT1H
BEGIN:VTIMEZONE
TZID:America/New_York
BEGIN:DAYLIGHT
TZOFFSETFROM:-0500
TZOFFSETTO:-0400
TZNAME:EDT
DTSTART:20200308T070000
END:DAYLIGHT
BEGIN:STANDARD
TZOFFSETFROM:-0400
TZOFFSETTO:-0500
TZNAME:EST
DTSTART:20201101T060000
END:STANDARD
BEGIN:DAYLIGHT
TZOFFSETFROM:-0500
TZOFFSETTO:-0400
TZNAME:EDT
DTSTART:20210314T070000
END:DAYLIGHT
BEGIN:STANDARD
TZOFFSETFROM:-0400
TZOFFSETTO:-0500
TZNAME:EST
DTSTART:20211107T060000
END:STANDARD
BEGIN:DAYLIGHT
TZOFFSETFROM:-0500
TZOFFSETTO:-0400
TZNAME:EDT
DTSTART:20220313T070000
END:DAYLIGHT
BEGIN:STANDARD
TZOFFSETFROM:-0400
TZOFFSETTO:-0500
TZNAME:EST
DTSTART:20221106T060000
END:STANDARD
BEGIN:DAYLIGHT
TZOFFSETFROM:-0500
TZOFFSETTO:-0400
TZNAME:EDT
DTSTART:20230312T070000
END:DAYLIGHT
BEGIN:STANDARD
TZOFFSETFROM:-0400
TZOFFSETTO:-0500
TZNAME:EST
DTSTART:20231105T060000
END:STANDARD
END:VTIMEZONE
BEGIN:VEVENT
DTSTART;TZID=America/New_York:20220419T190000
DTEND;TZID=America/New_York:20220419T213000
DTSTAMP:20260425T183219
CREATED:20180918T192321Z
LAST-MODIFIED:20180918T192321Z
UID:10000009-1650394800-1650403800@elktownshipnj.gov
SUMMARY:Twp. Committee Work Session
DESCRIPTION:Monthly Committee Work Session \nMunicipal Building
URL:https://elktownshipnj.gov/event/twp-committee-work-session-2022-04-19-2/
END:VEVENT
BEGIN:VEVENT
DTSTART;TZID=America/New_York:20220419T190000
DTEND;TZID=America/New_York:20220419T213000
DTSTAMP:20260425T183219
CREATED:20180918T192321Z
LAST-MODIFIED:20180918T192321Z
UID:10000008-1650394800-1650403800@elktownshipnj.gov
SUMMARY:Twp. Committee Work Session
DESCRIPTION:Monthly Committee Work Session \nMunicipal Building
URL:https://elktownshipnj.gov/event/twp-committee-work-session-2022-04-19/
END:VEVENT
BEGIN:VEVENT
DTSTART;TZID=America/New_York:20220409T100000
DTEND;TZID=America/New_York:20220409T110000
DTSTAMP:20260425T183219
CREATED:20220405T190909Z
LAST-MODIFIED:20220405T190909Z
UID:10000255-1649498400-1649502000@elktownshipnj.gov
SUMMARY:Easter Egg Hunt
DESCRIPTION:
URL:https://elktownshipnj.gov/event/easter-egg-hunt-3/
END:VEVENT
BEGIN:VEVENT
DTSTART;TZID=America/New_York:20220407T190000
DTEND;TZID=America/New_York:20220407T213000
DTSTAMP:20260425T183219
CREATED:20180918T192412Z
LAST-MODIFIED:20180918T192412Z
UID:10000083-1649358000-1649367000@elktownshipnj.gov
SUMMARY:Twp. Meeting
DESCRIPTION:Regular Monthly Committee Meeting \nMunicipal Building
URL:https://elktownshipnj.gov/event/twp-meeting-2022-04-07/
END:VEVENT
BEGIN:VEVENT
DTSTART;TZID=America/New_York:20220316T190000
DTEND;TZID=America/New_York:20220316T230000
DTSTAMP:20260425T183219
CREATED:20181128T231336Z
LAST-MODIFIED:20181128T231336Z
UID:10000156-1647457200-1647471600@elktownshipnj.gov
SUMMARY:Planning/Zoning Board Meeting
DESCRIPTION:
URL:https://elktownshipnj.gov/event/planning-zoning-board-meeting-2-2022-03-16/
END:VEVENT
BEGIN:VEVENT
DTSTART;TZID=America/New_York:20220315T190000
DTEND;TZID=America/New_York:20220315T213000
DTSTAMP:20260425T183219
CREATED:20180918T192321Z
LAST-MODIFIED:20180918T192321Z
UID:10000006-1647370800-1647379800@elktownshipnj.gov
SUMMARY:Twp. Committee Work Session
DESCRIPTION:Monthly Committee Work Session \nMunicipal Building
URL:https://elktownshipnj.gov/event/twp-committee-work-session-2022-03-15/
END:VEVENT
BEGIN:VEVENT
DTSTART;TZID=America/New_York:20220315T190000
DTEND;TZID=America/New_York:20220315T213000
DTSTAMP:20260425T183219
CREATED:20180918T192321Z
LAST-MODIFIED:20180918T192321Z
UID:10000007-1647370800-1647379800@elktownshipnj.gov
SUMMARY:Twp. Committee Work Session
DESCRIPTION:Monthly Committee Work Session \nMunicipal Building
URL:https://elktownshipnj.gov/event/twp-committee-work-session-2022-03-15-2/
END:VEVENT
BEGIN:VEVENT
DTSTART;TZID=America/New_York:20220303T190000
DTEND;TZID=America/New_York:20220303T213000
DTSTAMP:20260425T183219
CREATED:20180918T192412Z
LAST-MODIFIED:20180918T192412Z
UID:10000082-1646334000-1646343000@elktownshipnj.gov
SUMMARY:Twp. Meeting
DESCRIPTION:Regular Monthly Committee Meeting \nMunicipal Building
URL:https://elktownshipnj.gov/event/twp-meeting-2022-03-03/
END:VEVENT
BEGIN:VEVENT
DTSTART;TZID=America/New_York:20220216T190000
DTEND;TZID=America/New_York:20220216T230000
DTSTAMP:20260425T183219
CREATED:20181128T231336Z
LAST-MODIFIED:20181128T231336Z
UID:10000155-1645038000-1645052400@elktownshipnj.gov
SUMMARY:Planning/Zoning Board Meeting
DESCRIPTION:
URL:https://elktownshipnj.gov/event/planning-zoning-board-meeting-2-2022-02-16/
END:VEVENT
BEGIN:VEVENT
DTSTART;TZID=America/New_York:20220215T190000
DTEND;TZID=America/New_York:20220215T213000
DTSTAMP:20260425T183219
CREATED:20180918T192321Z
LAST-MODIFIED:20180918T192321Z
UID:10000004-1644951600-1644960600@elktownshipnj.gov
SUMMARY:Twp. Committee Work Session
DESCRIPTION:Monthly Committee Work Session \nMunicipal Building
URL:https://elktownshipnj.gov/event/twp-committee-work-session-2022-02-15/
END:VEVENT
BEGIN:VEVENT
DTSTART;TZID=America/New_York:20220215T190000
DTEND;TZID=America/New_York:20220215T213000
DTSTAMP:20260425T183219
CREATED:20180918T192321Z
LAST-MODIFIED:20180918T192321Z
UID:10000005-1644951600-1644960600@elktownshipnj.gov
SUMMARY:Twp. Committee Work Session
DESCRIPTION:Monthly Committee Work Session \nMunicipal Building
URL:https://elktownshipnj.gov/event/twp-committee-work-session-2022-02-15-2/
END:VEVENT
BEGIN:VEVENT
DTSTART;TZID=America/New_York:20211221T133000
DTEND;TZID=America/New_York:20211221T170000
DTSTAMP:20260425T183219
CREATED:20210310T160247Z
LAST-MODIFIED:20210310T160247Z
UID:10000253-1640093400-1640106000@elktownshipnj.gov
SUMMARY:Elk Joint Municipal Court – Virtual
DESCRIPTION:December 21\, 2021 Virtual Court Session \nJoin Zoom Meeting\nhttps://us02web.zoom.us/j/84266052778?pwd=S3Z4SDgzdEtDMTA5YjFkRWU1TFp2Zz09 \nMeeting ID: 842 6605 2778\nPasscode: 864847 \nDial by your location\n+1 929 205 6099 US (New York)\n+1 301 715 8592 US (Washington DC)\n+1 312 626 6799 US (Chicago)\n+1 669 900 6833 US (San Jose)\n+1 253 215 8782 US (Tacoma)\n+1 346 248 7799 US (Houston)\nMeeting ID: 842 6605 2778\nPasscode: 864847\nFind your local number: https://us02web.zoom.us/u/kbZ88nOjs
URL:https://elktownshipnj.gov/event/elk-joint-municipal-court-virtual-27/
END:VEVENT
BEGIN:VEVENT
DTSTART;TZID=America/New_York:20211220T100000
DTEND;TZID=America/New_York:20211220T170000
DTSTAMP:20260425T183219
CREATED:20210310T160106Z
LAST-MODIFIED:20210310T160106Z
UID:10000252-1639994400-1640019600@elktownshipnj.gov
SUMMARY:Elk Joint Municipal Court – Virtual
DESCRIPTION:December 20\, 2021 Virtual Court Session \nJoin Zoom Meeting\nhttps://us02web.zoom.us/j/88255743603?pwd=UkVRdi9iQVMwTHZ2N1R3SUlRdkxYQT09 \nMeeting ID: 882 5574 3603\nPasscode: 289495 \nDial by your location\n+1 301 715 8592 US (Washington DC)\n+1 312 626 6799 US (Chicago)\n+1 929 205 6099 US (New York)\n+1 253 215 8782 US (Tacoma)\n+1 346 248 7799 US (Houston)\n+1 669 900 6833 US (San Jose)\nMeeting ID: 882 5574 3603\nPasscode: 289495\nFind your local number: https://us02web.zoom.us/u/kxwrtWVwD
URL:https://elktownshipnj.gov/event/elk-joint-municipal-court-virtual-26/
END:VEVENT
BEGIN:VEVENT
DTSTART;TZID=America/New_York:20211207T133000
DTEND;TZID=America/New_York:20211207T170000
DTSTAMP:20260425T183219
CREATED:20210310T155933Z
LAST-MODIFIED:20210310T155933Z
UID:10000251-1638883800-1638896400@elktownshipnj.gov
SUMMARY:Elk Joint Municipal Court – Virtual
DESCRIPTION:December 7\, 2021 Virtual Court Session \nJoin Zoom Meeting\nhttps://us02web.zoom.us/j/84693377827?pwd=UmgzbDJOZHZQVUY5TWNWcml5azJuQT09 \nMeeting ID: 846 9337 7827\nPasscode: 699386 \nDial by your location\n+1 929 205 6099 US (New York)\n+1 301 715 8592 US (Washington DC)\n+1 312 626 6799 US (Chicago)\n+1 669 900 6833 US (San Jose)\n+1 253 215 8782 US (Tacoma)\n+1 346 248 7799 US (Houston)\nMeeting ID: 846 9337 7827\nPasscode: 699386\nFind your local number: https://us02web.zoom.us/u/kdKmhrTVGk
URL:https://elktownshipnj.gov/event/elk-joint-municipal-court-virtual-25/
END:VEVENT
BEGIN:VEVENT
DTSTART;TZID=America/New_York:20211116T133000
DTEND;TZID=America/New_York:20211116T170000
DTSTAMP:20260425T183219
CREATED:20210310T155744Z
LAST-MODIFIED:20210310T155744Z
UID:10000250-1637069400-1637082000@elktownshipnj.gov
SUMMARY:Elk Joint Municipal Court – Virtual
DESCRIPTION:November 16\, 2021 Virtual Court Session \nJoin Zoom Meeting\nhttps://us02web.zoom.us/j/85194782430?pwd=eXFydmFoMU1jajl0alE3ZjFRUkcyQT09 \nMeeting ID: 851 9478 2430\nPasscode: 329097 \nDial by your location\n+1 301 715 8592 US (Washington DC)\n+1 312 626 6799 US (Chicago)\n+1 929 205 6099 US (New York)\n+1 253 215 8782 US (Tacoma)\n+1 346 248 7799 US (Houston)\n+1 669 900 6833 US (San Jose)\nMeeting ID: 851 9478 2430\nPasscode: 329097\nFind your local number: https://us02web.zoom.us/u/kbIske99JO
URL:https://elktownshipnj.gov/event/elk-joint-municipal-court-virtual-24/
END:VEVENT
BEGIN:VEVENT
DTSTART;TZID=America/New_York:20211115T100000
DTEND;TZID=America/New_York:20211115T170000
DTSTAMP:20260425T183219
CREATED:20210310T155550Z
LAST-MODIFIED:20210310T155550Z
UID:10000249-1636970400-1636995600@elktownshipnj.gov
SUMMARY:Elk Joint Municipal Court – Virtual
DESCRIPTION:November 15\, 2021 Virtual Court Session \nJoin Zoom Meeting\nhttps://us02web.zoom.us/j/89987765599?pwd=aUthQzBNQ2FxMlFhOHZTR1J1VmpzQT09 \nMeeting ID: 899 8776 5599\nPasscode: 283755 \nDial by your location\n+1 929 205 6099 US (New York)\n+1 301 715 8592 US (Washington DC)\n+1 312 626 6799 US (Chicago)\n+1 669 900 6833 US (San Jose)\n+1 253 215 8782 US (Tacoma)\n+1 346 248 7799 US (Houston)\nMeeting ID: 899 8776 5599\nPasscode: 283755\nFind your local number: https://us02web.zoom.us/u/kf6iwsYhr
URL:https://elktownshipnj.gov/event/elk-joint-municipal-court-virtual-23/
END:VEVENT
BEGIN:VEVENT
DTSTART;TZID=America/New_York:20211019T133000
DTEND;TZID=America/New_York:20211019T170000
DTSTAMP:20260425T183219
CREATED:20210310T155409Z
LAST-MODIFIED:20210310T155409Z
UID:10000248-1634650200-1634662800@elktownshipnj.gov
SUMMARY:Elk Joint Municipal Court – Virtual
DESCRIPTION:October 19\, 2021 Virtual court Session \nJoin Zoom Meeting\nhttps://us02web.zoom.us/j/82337498933?pwd=WXg3bmRKbzE3b2JxTWpPR1JmejNtUT09 \nMeeting ID: 823 3749 8933\nPasscode: 994734 \nDial by your location\n+1 312 626 6799 US (Chicago)\n+1 929 205 6099 US (New York)\n+1 301 715 8592 US (Washington DC)\n+1 346 248 7799 US (Houston)\n+1 669 900 6833 US (San Jose)\n+1 253 215 8782 US (Tacoma)\nMeeting ID: 823 3749 8933\nPasscode: 994734\nFind your local number: https://us02web.zoom.us/u/kndG9T8mY
URL:https://elktownshipnj.gov/event/elk-joint-municipal-court-virtual-22/
END:VEVENT
BEGIN:VEVENT
DTSTART;TZID=America/New_York:20211018T100000
DTEND;TZID=America/New_York:20211018T170000
DTSTAMP:20260425T183219
CREATED:20210310T155227Z
LAST-MODIFIED:20210310T155227Z
UID:10000247-1634551200-1634576400@elktownshipnj.gov
SUMMARY:Elk Joint Municipal Court – Virtual
DESCRIPTION:October 18\, 2021 Virtual Court Session \nJoin Zoom Meeting\nhttps://us02web.zoom.us/j/86976150544?pwd=NVJJRzRRVjNwc1JZdGJhZDZoWHZqUT09 \nMeeting ID: 869 7615 0544\nPasscode: 716958 \nDial by your location\n+1 929 205 6099 US (New York)\n+1 301 715 8592 US (Washington DC)\n+1 312 626 6799 US (Chicago)\n+1 669 900 6833 US (San Jose)\n+1 253 215 8782 US (Tacoma)\n+1 346 248 7799 US (Houston)\nMeeting ID: 869 7615 0544\nPasscode: 716958\nFind your local number: https://us02web.zoom.us/u/keuPdJJazJ
URL:https://elktownshipnj.gov/event/elk-joint-municipal-court-virtual-21/
END:VEVENT
BEGIN:VEVENT
DTSTART;TZID=America/New_York:20211005T133000
DTEND;TZID=America/New_York:20211005T170000
DTSTAMP:20260425T183219
CREATED:20210310T160723Z
LAST-MODIFIED:20210310T160723Z
UID:10000254-1633440600-1633453200@elktownshipnj.gov
SUMMARY:Elk Joint Municipal Court – Virtual
DESCRIPTION:October 5\, 2021 Virtual Court Session \nJoin Zoom Meeting\nhttps://us02web.zoom.us/j/85114478669?pwd=a1RaL0hMelVwbWRzTW4yM2xpa2NvUT09 \nMeeting ID: 851 1447 8669\nPasscode: 789829 \nDial by your location\n+1 312 626 6799 US (Chicago)\n+1 929 205 6099 US (New York)\n+1 301 715 8592 US (Washington DC)\n+1 346 248 7799 US (Houston)\n+1 669 900 6833 US (San Jose)\n+1 253 215 8782 US (Tacoma)\nMeeting ID: 851 1447 8669\nPasscode: 789829\nFind your local number: https://us02web.zoom.us/u/kdjZihhT01
URL:https://elktownshipnj.gov/event/elk-joint-municipal-court-virtual-28/
END:VEVENT
BEGIN:VEVENT
DTSTART;TZID=America/New_York:20211005T133000
DTEND;TZID=America/New_York:20211005T170000
DTSTAMP:20260425T183219
CREATED:20210310T154844Z
LAST-MODIFIED:20210310T154844Z
UID:10000246-1633440600-1633453200@elktownshipnj.gov
SUMMARY:
DESCRIPTION:October 5\, 2021 Virtual Court Session \nJoin Zoom Meeting\nhttps://us02web.zoom.us/j/85114478669?pwd=a1RaL0hMelVwbWRzTW4yM2xpa2NvUT09 \nMeeting ID: 851 1447 8669\nPasscode: 789829 \nDial by your location\n+1 312 626 6799 US (Chicago)\n+1 929 205 6099 US (New York)\n+1 301 715 8592 US (Washington DC)\n+1 346 248 7799 US (Houston)\n+1 669 900 6833 US (San Jose)\n+1 253 215 8782 US (Tacoma)\nMeeting ID: 851 1447 8669\nPasscode: 789829\nFind your local number: https://us02web.zoom.us/u/kdjZihhT01
URL:https://elktownshipnj.gov/event/3060/
END:VEVENT
BEGIN:VEVENT
DTSTART;TZID=America/New_York:20210921T133000
DTEND;TZID=America/New_York:20210921T170000
DTSTAMP:20260425T183219
CREATED:20210310T154652Z
LAST-MODIFIED:20210310T154652Z
UID:10000245-1632231000-1632243600@elktownshipnj.gov
SUMMARY:Elk Joint Municipal Court – Virtual
DESCRIPTION:September 21\, 2021 Virtual Court Session \nJoin Zoom Meeting\nhttps://us02web.zoom.us/j/81958241728?pwd=RURzdGNDNVhEN1pBbjVSZGJUUUFCZz09 \nMeeting ID: 819 5824 1728\nPasscode: 739004 \nDial by your location\n+1 929 205 6099 US (New York)\n+1 301 715 8592 US (Washington DC)\n+1 312 626 6799 US (Chicago)\n+1 669 900 6833 US (San Jose)\n+1 253 215 8782 US (Tacoma)\n+1 346 248 7799 US (Houston)\nMeeting ID: 819 5824 1728\nPasscode: 739004\nFind your local number: https://us02web.zoom.us/u/kb7kzzpcm
URL:https://elktownshipnj.gov/event/elk-joint-municipal-court-virtual-20/
END:VEVENT
BEGIN:VEVENT
DTSTART;TZID=America/New_York:20210920T100000
DTEND;TZID=America/New_York:20210920T170000
DTSTAMP:20260425T183219
CREATED:20210310T154450Z
LAST-MODIFIED:20210310T154450Z
UID:10000244-1632132000-1632157200@elktownshipnj.gov
SUMMARY:Elk Joint Municipal Court – Virtual
DESCRIPTION:September 20\, 2021 Virtual Court Session \nJoin Zoom Meeting\nhttps://us02web.zoom.us/j/87595613408?pwd=cWJMdERWWkZOMWVHOWsrS1VJWVJ5QT09 \nMeeting ID: 875 9561 3408\nPasscode: 878102 \nDial by your location\n+1 312 626 6799 US (Chicago)\n+1 929 205 6099 US (New York)\n+1 301 715 8592 US (Washington DC)\n+1 346 248 7799 US (Houston)\n+1 669 900 6833 US (San Jose)\n+1 253 215 8782 US (Tacoma)\nMeeting ID: 875 9561 3408\nPasscode: 878102\nFind your local number: https://us02web.zoom.us/u/kbpo1s49FJ
URL:https://elktownshipnj.gov/event/elk-joint-municipal-court-virtual-19/
END:VEVENT
BEGIN:VEVENT
DTSTART;TZID=America/New_York:20210907T133000
DTEND;TZID=America/New_York:20210907T170000
DTSTAMP:20260425T183219
CREATED:20210310T154240Z
LAST-MODIFIED:20210310T154240Z
UID:10000243-1631021400-1631034000@elktownshipnj.gov
SUMMARY:Elk Joint Municipal Court – Virtual
DESCRIPTION:September 7\, 2021 Virtual Court \nJoin Zoom Meeting\nhttps://us02web.zoom.us/j/82110676365?pwd=WWdvUFQzb1kwRU10OTlKTFJQbTJOUT09 \nMeeting ID: 821 1067 6365\nPasscode: 927393 \nDial by your location\n+1 301 715 8592 US (Washington DC)\n+1 312 626 6799 US (Chicago)\n+1 929 205 6099 US (New York)\n+1 253 215 8782 US (Tacoma)\n+1 346 248 7799 US (Houston)\n+1 669 900 6833 US (San Jose)\nMeeting ID: 821 1067 6365\nPasscode: 927393\nFind your local number: https://us02web.zoom.us/u/klns4CMf3
URL:https://elktownshipnj.gov/event/elk-joint-municipal-court-virtual-18/
END:VEVENT
BEGIN:VEVENT
DTSTART;TZID=America/New_York:20210817T133000
DTEND;TZID=America/New_York:20210817T170000
DTSTAMP:20260425T183219
CREATED:20210310T154015Z
LAST-MODIFIED:20210310T154015Z
UID:10000242-1629207000-1629219600@elktownshipnj.gov
SUMMARY:Elk Joint Municipal Court – Virtual
DESCRIPTION:August 17\, 2021 Virtual Court Session \nJoin Zoom Meeting\nhttps://us02web.zoom.us/j/85195461106?pwd=V0JaRU5LQnRpbG5CSjgyQWkyRmU1QT09 \nMeeting ID: 851 9546 1106\nPasscode: 897430 \nDial by your location\n+1 929 205 6099 US (New York)\n+1 301 715 8592 US (Washington DC)\n+1 312 626 6799 US (Chicago)\n+1 669 900 6833 US (San Jose)\n+1 253 215 8782 US (Tacoma)\n+1 346 248 7799 US (Houston)\nMeeting ID: 851 9546 1106\nPasscode: 897430\nFind your local number: https://us02web.zoom.us/u/kdJBg3av6S
URL:https://elktownshipnj.gov/event/elk-joint-municipal-court-virtual-17/
END:VEVENT
BEGIN:VEVENT
DTSTART;TZID=America/New_York:20210816T100000
DTEND;TZID=America/New_York:20210816T170000
DTSTAMP:20260425T183219
CREATED:20210310T153754Z
LAST-MODIFIED:20210310T153754Z
UID:10000241-1629108000-1629133200@elktownshipnj.gov
SUMMARY:Elk Joint Municipal Court – Virtual
DESCRIPTION:August 16\, 2021 Virtual Court Session \nJoin Zoom Meeting\nhttps://us02web.zoom.us/j/84269062374?pwd=RDlGSVVjZDJoa3gwaUVsR1BKTXlUUT09 \nMeeting ID: 842 6906 2374\nPasscode: 824628 \nDial by your location\n+1 301 715 8592 US (Washington DC)\n+1 312 626 6799 US (Chicago)\n+1 929 205 6099 US (New York)\n+1 253 215 8782 US (Tacoma)\n+1 346 248 7799 US (Houston)\n+1 669 900 6833 US (San Jose)\nMeeting ID: 842 6906 2374\nPasscode: 824628\nFind your local number: https://us02web.zoom.us/u/kYuZqpEXM
URL:https://elktownshipnj.gov/event/elk-joint-municipal-court-virtual-16/
END:VEVENT
BEGIN:VEVENT
DTSTART;TZID=America/New_York:20210803T133000
DTEND;TZID=America/New_York:20210803T170000
DTSTAMP:20260425T183219
CREATED:20210310T153417Z
LAST-MODIFIED:20210310T153417Z
UID:10000240-1627997400-1628010000@elktownshipnj.gov
SUMMARY:Elk Joint Municipal Court – Virtual
DESCRIPTION:August 3\, 2021 Virtual Court \nJoin Zoom Meeting\nhttps://us02web.zoom.us/j/85267322312?pwd=ZGIvY1d2WG1kRTFJZlg2cnNXZGoxUT09 \nMeeting ID: 852 6732 2312\nPasscode: 427209 \nDial by your location\n+1 312 626 6799 US (Chicago)\n+1 929 205 6099 US (New York)\n+1 301 715 8592 US (Washington DC)\n+1 346 248 7799 US (Houston)\n+1 669 900 6833 US (San Jose)\n+1 253 215 8782 US (Tacoma)\nMeeting ID: 852 6732 2312\nPasscode: 427209\nFind your local number: https://us02web.zoom.us/u/kdKEtjz1t
URL:https://elktownshipnj.gov/event/elk-joint-municipal-court-virtual-15/
END:VEVENT
BEGIN:VEVENT
DTSTART;TZID=America/New_York:20210720T133000
DTEND;TZID=America/New_York:20210720T170000
DTSTAMP:20260425T183219
CREATED:20210310T153215Z
LAST-MODIFIED:20210310T153215Z
UID:10000239-1626787800-1626800400@elktownshipnj.gov
SUMMARY:Elk Joint Municipal Court – Virtual
DESCRIPTION:July 20\, 2021 Virtual Court Session \nJoin Zoom Meeting\nhttps://us02web.zoom.us/j/88184002709?pwd=bUtiUWVUOE95aWdQY0JUMi9aYWVxdz09 \nMeeting ID: 881 8400 2709\nPasscode: 778774 \nDial by your location\n+1 312 626 6799 US (Chicago)\n+1 929 205 6099 US (New York)\n+1 301 715 8592 US (Washington DC)\n+1 346 248 7799 US (Houston)\n+1 669 900 6833 US (San Jose)\n+1 253 215 8782 US (Tacoma)\nMeeting ID: 881 8400 2709\nPasscode: 778774\nFind your local number: https://us02web.zoom.us/u/kd4MypwrDw
URL:https://elktownshipnj.gov/event/elk-joint-municipal-court-virtual-14/
END:VEVENT
BEGIN:VEVENT
DTSTART;TZID=America/New_York:20210719T100000
DTEND;TZID=America/New_York:20210719T170000
DTSTAMP:20260425T183219
CREATED:20210310T152955Z
LAST-MODIFIED:20210310T152955Z
UID:10000238-1626688800-1626714000@elktownshipnj.gov
SUMMARY:Elk Joint Municipal Court – Virtual
DESCRIPTION:July 19\, 2021 Virtual Court Session \nJoin Zoom Meeting\nhttps://us02web.zoom.us/j/84300245878?pwd=eXlGSVNGZnJjaXZ3ZWEyY0RxVjNpdz09 \nMeeting ID: 843 0024 5878\nPasscode: 429102 \nDial by your location\n+1 929 205 6099 US (New York)\n+1 301 715 8592 US (Washington DC)\n+1 312 626 6799 US (Chicago)\n+1 669 900 6833 US (San Jose)\n+1 253 215 8782 US (Tacoma)\n+1 346 248 7799 US (Houston)\nMeeting ID: 843 0024 5878\nPasscode: 429102\nFind your local number: https://us02web.zoom.us/u/klyNYxNWl
URL:https://elktownshipnj.gov/event/elk-joint-municipal-court-virtual-13/
END:VEVENT
BEGIN:VEVENT
DTSTART;TZID=America/New_York:20210706T133000
DTEND;TZID=America/New_York:20210706T170000
DTSTAMP:20260425T183219
CREATED:20210310T152720Z
LAST-MODIFIED:20210310T152720Z
UID:10000237-1625578200-1625590800@elktownshipnj.gov
SUMMARY:Elk Joint Municipal Court – Virtual
DESCRIPTION:July 6\, 2021 Virtual Court Session \nJoin Zoom Meeting\nhttps://us02web.zoom.us/j/85032764941?pwd=Y2JYaWhGYll4WW9yVktlZGZZQ05tUT09 \nMeeting ID: 850 3276 4941\nPasscode: 460011 \nDial by your location\n+1 929 205 6099 US (New York)\n+1 301 715 8592 US (Washington DC)\n+1 312 626 6799 US (Chicago)\n+1 669 900 6833 US (San Jose)\n+1 253 215 8782 US (Tacoma)\n+1 346 248 7799 US (Houston)\nMeeting ID: 850 3276 4941\nPasscode: 460011\nFind your local number: https://us02web.zoom.us/u/kpQalHPFl
URL:https://elktownshipnj.gov/event/elk-joint-municipal-court-virtual-12/
END:VEVENT
BEGIN:VEVENT
DTSTART;TZID=America/New_York:20210621T100000
DTEND;TZID=America/New_York:20210621T170000
DTSTAMP:20260425T183219
CREATED:20210310T152353Z
LAST-MODIFIED:20210310T152353Z
UID:10000236-1624269600-1624294800@elktownshipnj.gov
SUMMARY:Elk Joint Municipal Court – Virtual
DESCRIPTION:June 21\, 2021 Virtual Court Session \nJoin Zoom Meeting\nhttps://us02web.zoom.us/j/87928545008?pwd=b0E3OHZyQ3E1aWExNk1ITUtLUU1HZz09 \nMeeting ID: 879 2854 5008\nPasscode: 613051 \nDial by your location\n+1 312 626 6799 US (Chicago)\n+1 929 205 6099 US (New York)\n+1 301 715 8592 US (Washington DC)\n+1 346 248 7799 US (Houston)\n+1 669 900 6833 US (San Jose)\n+1 253 215 8782 US (Tacoma)\nMeeting ID: 879 2854 5008\nPasscode: 613051\nFind your local number: https://us02web.zoom.us/u/kdJpfAPbF2
URL:https://elktownshipnj.gov/event/elk-joint-municipal-court-virtual-11/
END:VEVENT
END:VCALENDAR