BEGIN:VCALENDAR
VERSION:2.0
PRODID:-//Welcome to Elk Township - ECPv6.15.20//NONSGML v1.0//EN
CALSCALE:GREGORIAN
METHOD:PUBLISH
X-ORIGINAL-URL:https://elktownshipnj.gov
X-WR-CALDESC:Events for Welcome to Elk Township
REFRESH-INTERVAL;VALUE=DURATION:PT1H
X-Robots-Tag:noindex
X-PUBLISHED-TTL:PT1H
BEGIN:VTIMEZONE
TZID:America/New_York
BEGIN:DAYLIGHT
TZOFFSETFROM:-0500
TZOFFSETTO:-0400
TZNAME:EDT
DTSTART:20260308T070000
END:DAYLIGHT
BEGIN:STANDARD
TZOFFSETFROM:-0400
TZOFFSETTO:-0500
TZNAME:EST
DTSTART:20261101T060000
END:STANDARD
BEGIN:DAYLIGHT
TZOFFSETFROM:-0500
TZOFFSETTO:-0400
TZNAME:EDT
DTSTART:20270314T070000
END:DAYLIGHT
BEGIN:STANDARD
TZOFFSETFROM:-0400
TZOFFSETTO:-0500
TZNAME:EST
DTSTART:20271107T060000
END:STANDARD
BEGIN:DAYLIGHT
TZOFFSETFROM:-0500
TZOFFSETTO:-0400
TZNAME:EDT
DTSTART:20280312T070000
END:DAYLIGHT
BEGIN:STANDARD
TZOFFSETFROM:-0400
TZOFFSETTO:-0500
TZNAME:EST
DTSTART:20281105T060000
END:STANDARD
BEGIN:DAYLIGHT
TZOFFSETFROM:-0500
TZOFFSETTO:-0400
TZNAME:EDT
DTSTART:20290311T070000
END:DAYLIGHT
BEGIN:STANDARD
TZOFFSETFROM:-0400
TZOFFSETTO:-0500
TZNAME:EST
DTSTART:20291104T060000
END:STANDARD
END:VTIMEZONE
BEGIN:VEVENT
DTSTART;TZID=America/New_York:20270304T190000
DTEND;TZID=America/New_York:20270304T213000
DTSTAMP:20260425T070559
CREATED:20260219T120240Z
LAST-MODIFIED:20260219T120240Z
UID:10001366-1804186800-1804195800@elktownshipnj.gov
SUMMARY:Township Meeting
DESCRIPTION:Regular Monthly Committee Meeting \nMunicipal Building
URL:https://elktownshipnj.gov/event/township-meeting/2027-03-04/
LOCATION:Elk Twp Municipal Bldg\, 680 Whig Ln\, Monroeville\, 08343\, United States
END:VEVENT
BEGIN:VEVENT
DTSTART;TZID=America/New_York:20270316T190000
DTEND;TZID=America/New_York:20270316T210000
DTSTAMP:20260425T070559
CREATED:20250703T163950Z
LAST-MODIFIED:20260317T224517Z
UID:10001428-1805223600-1805230800@elktownshipnj.gov
SUMMARY:Twp. Committee Work Session
DESCRIPTION:
URL:https://elktownshipnj.gov/event/twp-committee-work-session/2027-03-16/
END:VEVENT
BEGIN:VEVENT
DTSTART;TZID=America/New_York:20270401T190000
DTEND;TZID=America/New_York:20270401T213000
DTSTAMP:20260425T070559
CREATED:20260219T120240Z
LAST-MODIFIED:20260219T120240Z
UID:10001367-1806606000-1806615000@elktownshipnj.gov
SUMMARY:Township Meeting
DESCRIPTION:Regular Monthly Committee Meeting \nMunicipal Building
URL:https://elktownshipnj.gov/event/township-meeting/2027-04-01/
LOCATION:Elk Twp Municipal Bldg\, 680 Whig Ln\, Monroeville\, 08343\, United States
END:VEVENT
BEGIN:VEVENT
DTSTART;TZID=America/New_York:20270420T190000
DTEND;TZID=America/New_York:20270420T210000
DTSTAMP:20260425T070559
CREATED:20250703T163950Z
LAST-MODIFIED:20260317T224517Z
UID:10001429-1808247600-1808254800@elktownshipnj.gov
SUMMARY:Twp. Committee Work Session
DESCRIPTION:
URL:https://elktownshipnj.gov/event/twp-committee-work-session/2027-04-20/
END:VEVENT
BEGIN:VEVENT
DTSTART;TZID=America/New_York:20270506T190000
DTEND;TZID=America/New_York:20270506T213000
DTSTAMP:20260425T070559
CREATED:20260219T120240Z
LAST-MODIFIED:20260219T120240Z
UID:10001368-1809630000-1809639000@elktownshipnj.gov
SUMMARY:Township Meeting
DESCRIPTION:Regular Monthly Committee Meeting \nMunicipal Building
URL:https://elktownshipnj.gov/event/township-meeting/2027-05-06/
LOCATION:Elk Twp Municipal Bldg\, 680 Whig Ln\, Monroeville\, 08343\, United States
END:VEVENT
BEGIN:VEVENT
DTSTART;TZID=America/New_York:20270518T190000
DTEND;TZID=America/New_York:20270518T210000
DTSTAMP:20260425T070559
CREATED:20250703T163950Z
LAST-MODIFIED:20260317T224517Z
UID:10001430-1810666800-1810674000@elktownshipnj.gov
SUMMARY:Twp. Committee Work Session
DESCRIPTION:
URL:https://elktownshipnj.gov/event/twp-committee-work-session/2027-05-18/
END:VEVENT
BEGIN:VEVENT
DTSTART;TZID=America/New_York:20270603T190000
DTEND;TZID=America/New_York:20270603T213000
DTSTAMP:20260425T070559
CREATED:20260219T120240Z
LAST-MODIFIED:20260219T120240Z
UID:10001369-1812049200-1812058200@elktownshipnj.gov
SUMMARY:Township Meeting
DESCRIPTION:Regular Monthly Committee Meeting \nMunicipal Building
URL:https://elktownshipnj.gov/event/township-meeting/2027-06-03/
LOCATION:Elk Twp Municipal Bldg\, 680 Whig Ln\, Monroeville\, 08343\, United States
END:VEVENT
BEGIN:VEVENT
DTSTART;TZID=America/New_York:20270615T190000
DTEND;TZID=America/New_York:20270615T210000
DTSTAMP:20260425T070559
CREATED:20250703T163950Z
LAST-MODIFIED:20260317T224517Z
UID:10001431-1813086000-1813093200@elktownshipnj.gov
SUMMARY:Twp. Committee Work Session
DESCRIPTION:
URL:https://elktownshipnj.gov/event/twp-committee-work-session/2027-06-15/
END:VEVENT
BEGIN:VEVENT
DTSTART;TZID=America/New_York:20270701T190000
DTEND;TZID=America/New_York:20270701T213000
DTSTAMP:20260425T070559
CREATED:20260219T120240Z
LAST-MODIFIED:20260219T120240Z
UID:10001370-1814468400-1814477400@elktownshipnj.gov
SUMMARY:Township Meeting
DESCRIPTION:Regular Monthly Committee Meeting \nMunicipal Building
URL:https://elktownshipnj.gov/event/township-meeting/2027-07-01/
LOCATION:Elk Twp Municipal Bldg\, 680 Whig Ln\, Monroeville\, 08343\, United States
END:VEVENT
BEGIN:VEVENT
DTSTART;TZID=America/New_York:20270720T190000
DTEND;TZID=America/New_York:20270720T210000
DTSTAMP:20260425T070559
CREATED:20250703T163950Z
LAST-MODIFIED:20260317T224517Z
UID:10001432-1816110000-1816117200@elktownshipnj.gov
SUMMARY:Twp. Committee Work Session
DESCRIPTION:
URL:https://elktownshipnj.gov/event/twp-committee-work-session/2027-07-20/
END:VEVENT
BEGIN:VEVENT
DTSTART;TZID=America/New_York:20270805T190000
DTEND;TZID=America/New_York:20270805T213000
DTSTAMP:20260425T070559
CREATED:20260219T120240Z
LAST-MODIFIED:20260219T120240Z
UID:10001371-1817492400-1817501400@elktownshipnj.gov
SUMMARY:Township Meeting
DESCRIPTION:Regular Monthly Committee Meeting \nMunicipal Building
URL:https://elktownshipnj.gov/event/township-meeting/2027-08-05/
LOCATION:Elk Twp Municipal Bldg\, 680 Whig Ln\, Monroeville\, 08343\, United States
END:VEVENT
BEGIN:VEVENT
DTSTART;TZID=America/New_York:20270817T190000
DTEND;TZID=America/New_York:20270817T210000
DTSTAMP:20260425T070559
CREATED:20250703T163950Z
LAST-MODIFIED:20260317T224517Z
UID:10001433-1818529200-1818536400@elktownshipnj.gov
SUMMARY:Twp. Committee Work Session
DESCRIPTION:
URL:https://elktownshipnj.gov/event/twp-committee-work-session/2027-08-17/
END:VEVENT
BEGIN:VEVENT
DTSTART;TZID=America/New_York:20270902T190000
DTEND;TZID=America/New_York:20270902T213000
DTSTAMP:20260425T070559
CREATED:20260219T120240Z
LAST-MODIFIED:20260219T120240Z
UID:10001372-1819911600-1819920600@elktownshipnj.gov
SUMMARY:Township Meeting
DESCRIPTION:Regular Monthly Committee Meeting \nMunicipal Building
URL:https://elktownshipnj.gov/event/township-meeting/2027-09-02/
LOCATION:Elk Twp Municipal Bldg\, 680 Whig Ln\, Monroeville\, 08343\, United States
END:VEVENT
BEGIN:VEVENT
DTSTART;TZID=America/New_York:20270921T190000
DTEND;TZID=America/New_York:20270921T210000
DTSTAMP:20260425T070559
CREATED:20250703T163950Z
LAST-MODIFIED:20260317T224517Z
UID:10001434-1821553200-1821560400@elktownshipnj.gov
SUMMARY:Twp. Committee Work Session
DESCRIPTION:
URL:https://elktownshipnj.gov/event/twp-committee-work-session/2027-09-21/
END:VEVENT
BEGIN:VEVENT
DTSTART;TZID=America/New_York:20271007T190000
DTEND;TZID=America/New_York:20271007T213000
DTSTAMP:20260425T070559
CREATED:20260219T120240Z
LAST-MODIFIED:20260219T120240Z
UID:10001373-1822935600-1822944600@elktownshipnj.gov
SUMMARY:Township Meeting
DESCRIPTION:Regular Monthly Committee Meeting \nMunicipal Building
URL:https://elktownshipnj.gov/event/township-meeting/2027-10-07/
LOCATION:Elk Twp Municipal Bldg\, 680 Whig Ln\, Monroeville\, 08343\, United States
END:VEVENT
BEGIN:VEVENT
DTSTART;TZID=America/New_York:20271019T190000
DTEND;TZID=America/New_York:20271019T210000
DTSTAMP:20260425T070559
CREATED:20250703T163950Z
LAST-MODIFIED:20260317T224517Z
UID:10001435-1823972400-1823979600@elktownshipnj.gov
SUMMARY:Twp. Committee Work Session
DESCRIPTION:
URL:https://elktownshipnj.gov/event/twp-committee-work-session/2027-10-19/
END:VEVENT
BEGIN:VEVENT
DTSTART;TZID=America/New_York:20271104T190000
DTEND;TZID=America/New_York:20271104T213000
DTSTAMP:20260425T070559
CREATED:20260219T120240Z
LAST-MODIFIED:20260219T120240Z
UID:10001374-1825354800-1825363800@elktownshipnj.gov
SUMMARY:Township Meeting
DESCRIPTION:Regular Monthly Committee Meeting \nMunicipal Building
URL:https://elktownshipnj.gov/event/township-meeting/2027-11-04/
LOCATION:Elk Twp Municipal Bldg\, 680 Whig Ln\, Monroeville\, 08343\, United States
END:VEVENT
BEGIN:VEVENT
DTSTART;TZID=America/New_York:20271116T190000
DTEND;TZID=America/New_York:20271116T210000
DTSTAMP:20260425T070559
CREATED:20250703T163950Z
LAST-MODIFIED:20260317T224517Z
UID:10001436-1826391600-1826398800@elktownshipnj.gov
SUMMARY:Twp. Committee Work Session
DESCRIPTION:
URL:https://elktownshipnj.gov/event/twp-committee-work-session/2027-11-16/
END:VEVENT
BEGIN:VEVENT
DTSTART;TZID=America/New_York:20271202T190000
DTEND;TZID=America/New_York:20271202T213000
DTSTAMP:20260425T070559
CREATED:20260219T120240Z
LAST-MODIFIED:20260219T120240Z
UID:10001375-1827774000-1827783000@elktownshipnj.gov
SUMMARY:Township Meeting
DESCRIPTION:Regular Monthly Committee Meeting \nMunicipal Building
URL:https://elktownshipnj.gov/event/township-meeting/2027-12-02/
LOCATION:Elk Twp Municipal Bldg\, 680 Whig Ln\, Monroeville\, 08343\, United States
END:VEVENT
BEGIN:VEVENT
DTSTART;TZID=America/New_York:20271221T190000
DTEND;TZID=America/New_York:20271221T210000
DTSTAMP:20260425T070559
CREATED:20250703T163950Z
LAST-MODIFIED:20260317T224517Z
UID:10001437-1829415600-1829422800@elktownshipnj.gov
SUMMARY:Twp. Committee Work Session
DESCRIPTION:
URL:https://elktownshipnj.gov/event/twp-committee-work-session/2027-12-21/
END:VEVENT
BEGIN:VEVENT
DTSTART;TZID=America/New_York:20280106T190000
DTEND;TZID=America/New_York:20280106T213000
DTSTAMP:20260425T070559
CREATED:20260219T120240Z
LAST-MODIFIED:20260219T120240Z
UID:10001376-1830798000-1830807000@elktownshipnj.gov
SUMMARY:Township Meeting
DESCRIPTION:Regular Monthly Committee Meeting \nMunicipal Building
URL:https://elktownshipnj.gov/event/township-meeting/2028-01-06/
LOCATION:Elk Twp Municipal Bldg\, 680 Whig Ln\, Monroeville\, 08343\, United States
END:VEVENT
BEGIN:VEVENT
DTSTART;TZID=America/New_York:20280118T190000
DTEND;TZID=America/New_York:20280118T210000
DTSTAMP:20260425T070559
CREATED:20250703T163950Z
LAST-MODIFIED:20260317T224517Z
UID:10001438-1831834800-1831842000@elktownshipnj.gov
SUMMARY:Twp. Committee Work Session
DESCRIPTION:
URL:https://elktownshipnj.gov/event/twp-committee-work-session/2028-01-18/
END:VEVENT
BEGIN:VEVENT
DTSTART;TZID=America/New_York:20280203T190000
DTEND;TZID=America/New_York:20280203T213000
DTSTAMP:20260425T070559
CREATED:20260219T120240Z
LAST-MODIFIED:20260219T120240Z
UID:10001377-1833217200-1833226200@elktownshipnj.gov
SUMMARY:Township Meeting
DESCRIPTION:Regular Monthly Committee Meeting \nMunicipal Building
URL:https://elktownshipnj.gov/event/township-meeting/2028-02-03/
LOCATION:Elk Twp Municipal Bldg\, 680 Whig Ln\, Monroeville\, 08343\, United States
END:VEVENT
BEGIN:VEVENT
DTSTART;TZID=America/New_York:20280215T190000
DTEND;TZID=America/New_York:20280215T210000
DTSTAMP:20260425T070559
CREATED:20250703T163950Z
LAST-MODIFIED:20260317T224517Z
UID:10001439-1834254000-1834261200@elktownshipnj.gov
SUMMARY:Twp. Committee Work Session
DESCRIPTION:
URL:https://elktownshipnj.gov/event/twp-committee-work-session/2028-02-15/
END:VEVENT
BEGIN:VEVENT
DTSTART;TZID=America/New_York:20280302T190000
DTEND;TZID=America/New_York:20280302T213000
DTSTAMP:20260425T070559
CREATED:20260219T120240Z
LAST-MODIFIED:20260219T120240Z
UID:10001378-1835636400-1835645400@elktownshipnj.gov
SUMMARY:Township Meeting
DESCRIPTION:Regular Monthly Committee Meeting \nMunicipal Building
URL:https://elktownshipnj.gov/event/township-meeting/2028-03-02/
LOCATION:Elk Twp Municipal Bldg\, 680 Whig Ln\, Monroeville\, 08343\, United States
END:VEVENT
BEGIN:VEVENT
DTSTART;TZID=America/New_York:20280321T190000
DTEND;TZID=America/New_York:20280321T210000
DTSTAMP:20260425T070559
CREATED:20250703T163950Z
LAST-MODIFIED:20260317T224517Z
UID:10001440-1837278000-1837285200@elktownshipnj.gov
SUMMARY:Twp. Committee Work Session
DESCRIPTION:
URL:https://elktownshipnj.gov/event/twp-committee-work-session/2028-03-21/
END:VEVENT
BEGIN:VEVENT
DTSTART;TZID=America/New_York:20280406T190000
DTEND;TZID=America/New_York:20280406T213000
DTSTAMP:20260425T070559
CREATED:20260219T120240Z
LAST-MODIFIED:20260219T120240Z
UID:10001379-1838660400-1838669400@elktownshipnj.gov
SUMMARY:Township Meeting
DESCRIPTION:Regular Monthly Committee Meeting \nMunicipal Building
URL:https://elktownshipnj.gov/event/township-meeting/2028-04-06/
LOCATION:Elk Twp Municipal Bldg\, 680 Whig Ln\, Monroeville\, 08343\, United States
END:VEVENT
BEGIN:VEVENT
DTSTART;TZID=America/New_York:20280418T190000
DTEND;TZID=America/New_York:20280418T210000
DTSTAMP:20260425T070559
CREATED:20250703T163950Z
LAST-MODIFIED:20260317T224517Z
UID:10001441-1839697200-1839704400@elktownshipnj.gov
SUMMARY:Twp. Committee Work Session
DESCRIPTION:
URL:https://elktownshipnj.gov/event/twp-committee-work-session/2028-04-18/
END:VEVENT
BEGIN:VEVENT
DTSTART;TZID=America/New_York:20280504T190000
DTEND;TZID=America/New_York:20280504T213000
DTSTAMP:20260425T070559
CREATED:20260219T120240Z
LAST-MODIFIED:20260219T120240Z
UID:10001380-1841079600-1841088600@elktownshipnj.gov
SUMMARY:Township Meeting
DESCRIPTION:Regular Monthly Committee Meeting \nMunicipal Building
URL:https://elktownshipnj.gov/event/township-meeting/2028-05-04/
LOCATION:Elk Twp Municipal Bldg\, 680 Whig Ln\, Monroeville\, 08343\, United States
END:VEVENT
BEGIN:VEVENT
DTSTART;TZID=America/New_York:20280516T190000
DTEND;TZID=America/New_York:20280516T210000
DTSTAMP:20260425T070559
CREATED:20250703T163950Z
LAST-MODIFIED:20260317T224517Z
UID:10001442-1842116400-1842123600@elktownshipnj.gov
SUMMARY:Twp. Committee Work Session
DESCRIPTION:
URL:https://elktownshipnj.gov/event/twp-committee-work-session/2028-05-16/
END:VEVENT
END:VCALENDAR