BEGIN:VCALENDAR
VERSION:2.0
PRODID:-//Welcome to Elk Township - ECPv6.15.20//NONSGML v1.0//EN
CALSCALE:GREGORIAN
METHOD:PUBLISH
X-ORIGINAL-URL:https://elktownshipnj.gov
X-WR-CALDESC:Events for Welcome to Elk Township
REFRESH-INTERVAL;VALUE=DURATION:PT1H
X-Robots-Tag:noindex
X-PUBLISHED-TTL:PT1H
BEGIN:VTIMEZONE
TZID:America/New_York
BEGIN:DAYLIGHT
TZOFFSETFROM:-0500
TZOFFSETTO:-0400
TZNAME:EDT
DTSTART:20280312T070000
END:DAYLIGHT
BEGIN:STANDARD
TZOFFSETFROM:-0400
TZOFFSETTO:-0500
TZNAME:EST
DTSTART:20281105T060000
END:STANDARD
BEGIN:DAYLIGHT
TZOFFSETFROM:-0500
TZOFFSETTO:-0400
TZNAME:EDT
DTSTART:20290311T070000
END:DAYLIGHT
BEGIN:STANDARD
TZOFFSETFROM:-0400
TZOFFSETTO:-0500
TZNAME:EST
DTSTART:20291104T060000
END:STANDARD
BEGIN:DAYLIGHT
TZOFFSETFROM:-0500
TZOFFSETTO:-0400
TZNAME:EDT
DTSTART:20300310T070000
END:DAYLIGHT
BEGIN:STANDARD
TZOFFSETFROM:-0400
TZOFFSETTO:-0500
TZNAME:EST
DTSTART:20301103T060000
END:STANDARD
BEGIN:DAYLIGHT
TZOFFSETFROM:-0500
TZOFFSETTO:-0400
TZNAME:EDT
DTSTART:20310309T070000
END:DAYLIGHT
BEGIN:STANDARD
TZOFFSETFROM:-0400
TZOFFSETTO:-0500
TZNAME:EST
DTSTART:20311102T060000
END:STANDARD
END:VTIMEZONE
BEGIN:VEVENT
DTSTART;TZID=America/New_York:20291004T190000
DTEND;TZID=America/New_York:20291004T213000
DTSTAMP:20260425T092103
CREATED:20260219T120240Z
LAST-MODIFIED:20260219T120240Z
UID:10001397-1885834800-1885843800@elktownshipnj.gov
SUMMARY:Township Meeting
DESCRIPTION:Regular Monthly Committee Meeting \nMunicipal Building
URL:https://elktownshipnj.gov/event/township-meeting/2029-10-04/
LOCATION:Elk Twp Municipal Bldg\, 680 Whig Ln\, Monroeville\, 08343\, United States
END:VEVENT
BEGIN:VEVENT
DTSTART;TZID=America/New_York:20291016T190000
DTEND;TZID=America/New_York:20291016T210000
DTSTAMP:20260425T092103
CREATED:20250703T163950Z
LAST-MODIFIED:20260317T224517Z
UID:10001459-1886871600-1886878800@elktownshipnj.gov
SUMMARY:Twp. Committee Work Session
DESCRIPTION:
URL:https://elktownshipnj.gov/event/twp-committee-work-session/2029-10-16/
END:VEVENT
BEGIN:VEVENT
DTSTART;TZID=America/New_York:20291101T190000
DTEND;TZID=America/New_York:20291101T213000
DTSTAMP:20260425T092103
CREATED:20260219T120240Z
LAST-MODIFIED:20260219T120240Z
UID:10001398-1888254000-1888263000@elktownshipnj.gov
SUMMARY:Township Meeting
DESCRIPTION:Regular Monthly Committee Meeting \nMunicipal Building
URL:https://elktownshipnj.gov/event/township-meeting/2029-11-01/
LOCATION:Elk Twp Municipal Bldg\, 680 Whig Ln\, Monroeville\, 08343\, United States
END:VEVENT
BEGIN:VEVENT
DTSTART;TZID=America/New_York:20291120T190000
DTEND;TZID=America/New_York:20291120T210000
DTSTAMP:20260425T092103
CREATED:20250703T163950Z
LAST-MODIFIED:20260317T224517Z
UID:10001460-1889895600-1889902800@elktownshipnj.gov
SUMMARY:Twp. Committee Work Session
DESCRIPTION:
URL:https://elktownshipnj.gov/event/twp-committee-work-session/2029-11-20/
END:VEVENT
BEGIN:VEVENT
DTSTART;TZID=America/New_York:20291206T190000
DTEND;TZID=America/New_York:20291206T213000
DTSTAMP:20260425T092103
CREATED:20260219T120240Z
LAST-MODIFIED:20260219T120240Z
UID:10001399-1891278000-1891287000@elktownshipnj.gov
SUMMARY:Township Meeting
DESCRIPTION:Regular Monthly Committee Meeting \nMunicipal Building
URL:https://elktownshipnj.gov/event/township-meeting/2029-12-06/
LOCATION:Elk Twp Municipal Bldg\, 680 Whig Ln\, Monroeville\, 08343\, United States
END:VEVENT
BEGIN:VEVENT
DTSTART;TZID=America/New_York:20291218T190000
DTEND;TZID=America/New_York:20291218T210000
DTSTAMP:20260425T092103
CREATED:20250703T163950Z
LAST-MODIFIED:20260317T224517Z
UID:10001461-1892314800-1892322000@elktownshipnj.gov
SUMMARY:Twp. Committee Work Session
DESCRIPTION:
URL:https://elktownshipnj.gov/event/twp-committee-work-session/2029-12-18/
END:VEVENT
BEGIN:VEVENT
DTSTART;TZID=America/New_York:20300103T190000
DTEND;TZID=America/New_York:20300103T213000
DTSTAMP:20260425T092103
CREATED:20260219T120240Z
LAST-MODIFIED:20260219T120240Z
UID:10001400-1893697200-1893706200@elktownshipnj.gov
SUMMARY:Township Meeting
DESCRIPTION:Regular Monthly Committee Meeting \nMunicipal Building
URL:https://elktownshipnj.gov/event/township-meeting/2030-01-03/
LOCATION:Elk Twp Municipal Bldg\, 680 Whig Ln\, Monroeville\, 08343\, United States
END:VEVENT
BEGIN:VEVENT
DTSTART;TZID=America/New_York:20300115T190000
DTEND;TZID=America/New_York:20300115T210000
DTSTAMP:20260425T092103
CREATED:20250703T163950Z
LAST-MODIFIED:20260317T224517Z
UID:10001462-1894734000-1894741200@elktownshipnj.gov
SUMMARY:Twp. Committee Work Session
DESCRIPTION:
URL:https://elktownshipnj.gov/event/twp-committee-work-session/2030-01-15/
END:VEVENT
BEGIN:VEVENT
DTSTART;TZID=America/New_York:20300207T190000
DTEND;TZID=America/New_York:20300207T213000
DTSTAMP:20260425T092103
CREATED:20260219T120240Z
LAST-MODIFIED:20260219T120240Z
UID:10001401-1896721200-1896730200@elktownshipnj.gov
SUMMARY:Township Meeting
DESCRIPTION:Regular Monthly Committee Meeting \nMunicipal Building
URL:https://elktownshipnj.gov/event/township-meeting/2030-02-07/
LOCATION:Elk Twp Municipal Bldg\, 680 Whig Ln\, Monroeville\, 08343\, United States
END:VEVENT
BEGIN:VEVENT
DTSTART;TZID=America/New_York:20300219T190000
DTEND;TZID=America/New_York:20300219T210000
DTSTAMP:20260425T092103
CREATED:20250703T163950Z
LAST-MODIFIED:20260317T224517Z
UID:10001463-1897758000-1897765200@elktownshipnj.gov
SUMMARY:Twp. Committee Work Session
DESCRIPTION:
URL:https://elktownshipnj.gov/event/twp-committee-work-session/2030-02-19/
END:VEVENT
BEGIN:VEVENT
DTSTART;TZID=America/New_York:20300307T190000
DTEND;TZID=America/New_York:20300307T213000
DTSTAMP:20260425T092103
CREATED:20260219T120240Z
LAST-MODIFIED:20260219T120240Z
UID:10001402-1899140400-1899149400@elktownshipnj.gov
SUMMARY:Township Meeting
DESCRIPTION:Regular Monthly Committee Meeting \nMunicipal Building
URL:https://elktownshipnj.gov/event/township-meeting/2030-03-07/
LOCATION:Elk Twp Municipal Bldg\, 680 Whig Ln\, Monroeville\, 08343\, United States
END:VEVENT
BEGIN:VEVENT
DTSTART;TZID=America/New_York:20300319T190000
DTEND;TZID=America/New_York:20300319T210000
DTSTAMP:20260425T092103
CREATED:20250703T163950Z
LAST-MODIFIED:20260317T224517Z
UID:10001464-1900177200-1900184400@elktownshipnj.gov
SUMMARY:Twp. Committee Work Session
DESCRIPTION:
URL:https://elktownshipnj.gov/event/twp-committee-work-session/2030-03-19/
END:VEVENT
BEGIN:VEVENT
DTSTART;TZID=America/New_York:20300404T190000
DTEND;TZID=America/New_York:20300404T213000
DTSTAMP:20260425T092103
CREATED:20260219T120240Z
LAST-MODIFIED:20260219T120240Z
UID:10001403-1901559600-1901568600@elktownshipnj.gov
SUMMARY:Township Meeting
DESCRIPTION:Regular Monthly Committee Meeting \nMunicipal Building
URL:https://elktownshipnj.gov/event/township-meeting/2030-04-04/
LOCATION:Elk Twp Municipal Bldg\, 680 Whig Ln\, Monroeville\, 08343\, United States
END:VEVENT
BEGIN:VEVENT
DTSTART;TZID=America/New_York:20300416T190000
DTEND;TZID=America/New_York:20300416T210000
DTSTAMP:20260425T092103
CREATED:20250703T163950Z
LAST-MODIFIED:20260317T224517Z
UID:10001465-1902596400-1902603600@elktownshipnj.gov
SUMMARY:Twp. Committee Work Session
DESCRIPTION:
URL:https://elktownshipnj.gov/event/twp-committee-work-session/2030-04-16/
END:VEVENT
BEGIN:VEVENT
DTSTART;TZID=America/New_York:20300502T190000
DTEND;TZID=America/New_York:20300502T213000
DTSTAMP:20260425T092103
CREATED:20260219T120240Z
LAST-MODIFIED:20260219T120240Z
UID:10001404-1903978800-1903987800@elktownshipnj.gov
SUMMARY:Township Meeting
DESCRIPTION:Regular Monthly Committee Meeting \nMunicipal Building
URL:https://elktownshipnj.gov/event/township-meeting/2030-05-02/
LOCATION:Elk Twp Municipal Bldg\, 680 Whig Ln\, Monroeville\, 08343\, United States
END:VEVENT
BEGIN:VEVENT
DTSTART;TZID=America/New_York:20300521T190000
DTEND;TZID=America/New_York:20300521T210000
DTSTAMP:20260425T092103
CREATED:20250703T163950Z
LAST-MODIFIED:20260317T224517Z
UID:10001466-1905620400-1905627600@elktownshipnj.gov
SUMMARY:Twp. Committee Work Session
DESCRIPTION:
URL:https://elktownshipnj.gov/event/twp-committee-work-session/2030-05-21/
END:VEVENT
BEGIN:VEVENT
DTSTART;TZID=America/New_York:20300606T190000
DTEND;TZID=America/New_York:20300606T213000
DTSTAMP:20260425T092103
CREATED:20260219T120240Z
LAST-MODIFIED:20260219T120240Z
UID:10001405-1907002800-1907011800@elktownshipnj.gov
SUMMARY:Township Meeting
DESCRIPTION:Regular Monthly Committee Meeting \nMunicipal Building
URL:https://elktownshipnj.gov/event/township-meeting/2030-06-06/
LOCATION:Elk Twp Municipal Bldg\, 680 Whig Ln\, Monroeville\, 08343\, United States
END:VEVENT
BEGIN:VEVENT
DTSTART;TZID=America/New_York:20300618T190000
DTEND;TZID=America/New_York:20300618T210000
DTSTAMP:20260425T092103
CREATED:20250703T163950Z
LAST-MODIFIED:20260317T224517Z
UID:10001467-1908039600-1908046800@elktownshipnj.gov
SUMMARY:Twp. Committee Work Session
DESCRIPTION:
URL:https://elktownshipnj.gov/event/twp-committee-work-session/2030-06-18/
END:VEVENT
BEGIN:VEVENT
DTSTART;TZID=America/New_York:20300704T190000
DTEND;TZID=America/New_York:20300704T213000
DTSTAMP:20260425T092103
CREATED:20260219T120240Z
LAST-MODIFIED:20260219T120240Z
UID:10001406-1909422000-1909431000@elktownshipnj.gov
SUMMARY:Township Meeting
DESCRIPTION:Regular Monthly Committee Meeting \nMunicipal Building
URL:https://elktownshipnj.gov/event/township-meeting/2030-07-04/
LOCATION:Elk Twp Municipal Bldg\, 680 Whig Ln\, Monroeville\, 08343\, United States
END:VEVENT
BEGIN:VEVENT
DTSTART;TZID=America/New_York:20300716T190000
DTEND;TZID=America/New_York:20300716T210000
DTSTAMP:20260425T092103
CREATED:20250703T163950Z
LAST-MODIFIED:20260317T224517Z
UID:10001468-1910458800-1910466000@elktownshipnj.gov
SUMMARY:Twp. Committee Work Session
DESCRIPTION:
URL:https://elktownshipnj.gov/event/twp-committee-work-session/2030-07-16/
END:VEVENT
BEGIN:VEVENT
DTSTART;TZID=America/New_York:20300801T190000
DTEND;TZID=America/New_York:20300801T213000
DTSTAMP:20260425T092103
CREATED:20260219T120240Z
LAST-MODIFIED:20260219T120240Z
UID:10001407-1911841200-1911850200@elktownshipnj.gov
SUMMARY:Township Meeting
DESCRIPTION:Regular Monthly Committee Meeting \nMunicipal Building
URL:https://elktownshipnj.gov/event/township-meeting/2030-08-01/
LOCATION:Elk Twp Municipal Bldg\, 680 Whig Ln\, Monroeville\, 08343\, United States
END:VEVENT
BEGIN:VEVENT
DTSTART;TZID=America/New_York:20300820T190000
DTEND;TZID=America/New_York:20300820T210000
DTSTAMP:20260425T092103
CREATED:20250703T163950Z
LAST-MODIFIED:20260317T224517Z
UID:10001469-1913482800-1913490000@elktownshipnj.gov
SUMMARY:Twp. Committee Work Session
DESCRIPTION:
URL:https://elktownshipnj.gov/event/twp-committee-work-session/2030-08-20/
END:VEVENT
BEGIN:VEVENT
DTSTART;TZID=America/New_York:20300905T190000
DTEND;TZID=America/New_York:20300905T213000
DTSTAMP:20260425T092103
CREATED:20260219T120240Z
LAST-MODIFIED:20260219T120240Z
UID:10001408-1914865200-1914874200@elktownshipnj.gov
SUMMARY:Township Meeting
DESCRIPTION:Regular Monthly Committee Meeting \nMunicipal Building
URL:https://elktownshipnj.gov/event/township-meeting/2030-09-05/
LOCATION:Elk Twp Municipal Bldg\, 680 Whig Ln\, Monroeville\, 08343\, United States
END:VEVENT
BEGIN:VEVENT
DTSTART;TZID=America/New_York:20300917T190000
DTEND;TZID=America/New_York:20300917T210000
DTSTAMP:20260425T092103
CREATED:20250703T163950Z
LAST-MODIFIED:20260317T224517Z
UID:10001470-1915902000-1915909200@elktownshipnj.gov
SUMMARY:Twp. Committee Work Session
DESCRIPTION:
URL:https://elktownshipnj.gov/event/twp-committee-work-session/2030-09-17/
END:VEVENT
BEGIN:VEVENT
DTSTART;TZID=America/New_York:20301003T190000
DTEND;TZID=America/New_York:20301003T213000
DTSTAMP:20260425T092103
CREATED:20260219T120240Z
LAST-MODIFIED:20260219T120240Z
UID:10001409-1917284400-1917293400@elktownshipnj.gov
SUMMARY:Township Meeting
DESCRIPTION:Regular Monthly Committee Meeting \nMunicipal Building
URL:https://elktownshipnj.gov/event/township-meeting/2030-10-03/
LOCATION:Elk Twp Municipal Bldg\, 680 Whig Ln\, Monroeville\, 08343\, United States
END:VEVENT
BEGIN:VEVENT
DTSTART;TZID=America/New_York:20301015T190000
DTEND;TZID=America/New_York:20301015T210000
DTSTAMP:20260425T092103
CREATED:20250703T163950Z
LAST-MODIFIED:20260317T224517Z
UID:10001471-1918321200-1918328400@elktownshipnj.gov
SUMMARY:Twp. Committee Work Session
DESCRIPTION:
URL:https://elktownshipnj.gov/event/twp-committee-work-session/2030-10-15/
END:VEVENT
BEGIN:VEVENT
DTSTART;TZID=America/New_York:20301107T190000
DTEND;TZID=America/New_York:20301107T213000
DTSTAMP:20260425T092103
CREATED:20260219T120240Z
LAST-MODIFIED:20260219T120240Z
UID:10001410-1920308400-1920317400@elktownshipnj.gov
SUMMARY:Township Meeting
DESCRIPTION:Regular Monthly Committee Meeting \nMunicipal Building
URL:https://elktownshipnj.gov/event/township-meeting/2030-11-07/
LOCATION:Elk Twp Municipal Bldg\, 680 Whig Ln\, Monroeville\, 08343\, United States
END:VEVENT
BEGIN:VEVENT
DTSTART;TZID=America/New_York:20301119T190000
DTEND;TZID=America/New_York:20301119T210000
DTSTAMP:20260425T092103
CREATED:20250703T163950Z
LAST-MODIFIED:20260317T224517Z
UID:10001472-1921345200-1921352400@elktownshipnj.gov
SUMMARY:Twp. Committee Work Session
DESCRIPTION:
URL:https://elktownshipnj.gov/event/twp-committee-work-session/2030-11-19/
END:VEVENT
BEGIN:VEVENT
DTSTART;TZID=America/New_York:20301205T190000
DTEND;TZID=America/New_York:20301205T213000
DTSTAMP:20260425T092103
CREATED:20260219T120240Z
LAST-MODIFIED:20260219T120240Z
UID:10001411-1922727600-1922736600@elktownshipnj.gov
SUMMARY:Township Meeting
DESCRIPTION:Regular Monthly Committee Meeting \nMunicipal Building
URL:https://elktownshipnj.gov/event/township-meeting/2030-12-05/
LOCATION:Elk Twp Municipal Bldg\, 680 Whig Ln\, Monroeville\, 08343\, United States
END:VEVENT
BEGIN:VEVENT
DTSTART;TZID=America/New_York:20301217T190000
DTEND;TZID=America/New_York:20301217T210000
DTSTAMP:20260425T092103
CREATED:20250703T163950Z
LAST-MODIFIED:20260317T224517Z
UID:10001473-1923764400-1923771600@elktownshipnj.gov
SUMMARY:Twp. Committee Work Session
DESCRIPTION:
URL:https://elktownshipnj.gov/event/twp-committee-work-session/2030-12-17/
END:VEVENT
END:VCALENDAR