BEGIN:VCALENDAR
VERSION:2.0
PRODID:-//Welcome to Elk Township - ECPv6.15.20//NONSGML v1.0//EN
CALSCALE:GREGORIAN
METHOD:PUBLISH
X-WR-CALNAME:Welcome to Elk Township
X-ORIGINAL-URL:https://elktownshipnj.gov
X-WR-CALDESC:Events for Welcome to Elk Township
REFRESH-INTERVAL;VALUE=DURATION:PT1H
X-Robots-Tag:noindex
X-PUBLISHED-TTL:PT1H
BEGIN:VTIMEZONE
TZID:America/New_York
BEGIN:DAYLIGHT
TZOFFSETFROM:-0500
TZOFFSETTO:-0400
TZNAME:EDT
DTSTART:20240310T070000
END:DAYLIGHT
BEGIN:STANDARD
TZOFFSETFROM:-0400
TZOFFSETTO:-0500
TZNAME:EST
DTSTART:20241103T060000
END:STANDARD
BEGIN:DAYLIGHT
TZOFFSETFROM:-0500
TZOFFSETTO:-0400
TZNAME:EDT
DTSTART:20250309T070000
END:DAYLIGHT
BEGIN:STANDARD
TZOFFSETFROM:-0400
TZOFFSETTO:-0500
TZNAME:EST
DTSTART:20251102T060000
END:STANDARD
BEGIN:DAYLIGHT
TZOFFSETFROM:-0500
TZOFFSETTO:-0400
TZNAME:EDT
DTSTART:20260308T070000
END:DAYLIGHT
BEGIN:STANDARD
TZOFFSETFROM:-0400
TZOFFSETTO:-0500
TZNAME:EST
DTSTART:20261101T060000
END:STANDARD
END:VTIMEZONE
BEGIN:VEVENT
DTSTART;TZID=America/New_York:20250403T190000
DTEND;TZID=America/New_York:20250403T213000
DTSTAMP:20260425T102622
CREATED:20180918T192412Z
LAST-MODIFIED:20180918T192412Z
UID:10000131-1743706800-1743715800@elktownshipnj.gov
SUMMARY:Twp. Meeting
DESCRIPTION:Regular Monthly Committee Meeting \nMunicipal Building
URL:https://elktownshipnj.gov/event/twp-meeting-2025-04-03/
END:VEVENT
BEGIN:VEVENT
DTSTART;TZID=America/New_York:20250415T190000
DTEND;TZID=America/New_York:20250415T213000
DTSTAMP:20260425T102622
CREATED:20180918T192321Z
LAST-MODIFIED:20180918T192321Z
UID:10000075-1744743600-1744752600@elktownshipnj.gov
SUMMARY:Twp. Committee Work Session
DESCRIPTION:Monthly Committee Work Session \nMunicipal Building
URL:https://elktownshipnj.gov/event/twp-committee-work-session-2025-04-15/
END:VEVENT
BEGIN:VEVENT
DTSTART;TZID=America/New_York:20250415T190000
DTEND;TZID=America/New_York:20250415T213000
DTSTAMP:20260425T102622
CREATED:20180918T192321Z
LAST-MODIFIED:20180918T192321Z
UID:10000076-1744743600-1744752600@elktownshipnj.gov
SUMMARY:Twp. Committee Work Session
DESCRIPTION:Monthly Committee Work Session \nMunicipal Building
URL:https://elktownshipnj.gov/event/twp-committee-work-session-2025-04-15-2/
END:VEVENT
BEGIN:VEVENT
DTSTART;TZID=America/New_York:20250416T190000
DTEND;TZID=America/New_York:20250416T230000
DTSTAMP:20260425T102622
CREATED:20181128T231336Z
LAST-MODIFIED:20181128T231336Z
UID:10000195-1744830000-1744844400@elktownshipnj.gov
SUMMARY:Planning/Zoning Board Meeting
DESCRIPTION:
URL:https://elktownshipnj.gov/event/planning-zoning-board-meeting-2-2025-04-16/
END:VEVENT
END:VCALENDAR